BEGIN:VCALENDAR
VERSION:2.0
PRODID:-//EsteroToday.com by Engage Estero - ECPv6.15.20//NONSGML v1.0//EN
CALSCALE:GREGORIAN
METHOD:PUBLISH
X-WR-CALNAME:EsteroToday.com by Engage Estero
X-ORIGINAL-URL:https://esterotoday.com
X-WR-CALDESC:Events for EsteroToday.com by Engage Estero
REFRESH-INTERVAL;VALUE=DURATION:PT1H
X-Robots-Tag:noindex
X-PUBLISHED-TTL:PT1H
BEGIN:VTIMEZONE
TZID:America/New_York
BEGIN:DAYLIGHT
TZOFFSETFROM:-0500
TZOFFSETTO:-0400
TZNAME:EDT
DTSTART:20220313T070000
END:DAYLIGHT
BEGIN:STANDARD
TZOFFSETFROM:-0400
TZOFFSETTO:-0500
TZNAME:EST
DTSTART:20221106T060000
END:STANDARD
BEGIN:DAYLIGHT
TZOFFSETFROM:-0500
TZOFFSETTO:-0400
TZNAME:EDT
DTSTART:20230312T070000
END:DAYLIGHT
BEGIN:STANDARD
TZOFFSETFROM:-0400
TZOFFSETTO:-0500
TZNAME:EST
DTSTART:20231105T060000
END:STANDARD
BEGIN:DAYLIGHT
TZOFFSETFROM:-0500
TZOFFSETTO:-0400
TZNAME:EDT
DTSTART:20240310T070000
END:DAYLIGHT
BEGIN:STANDARD
TZOFFSETFROM:-0400
TZOFFSETTO:-0500
TZNAME:EST
DTSTART:20241103T060000
END:STANDARD
END:VTIMEZONE
BEGIN:VEVENT
DTSTART;TZID=America/New_York:20231201T150000
DTEND;TZID=America/New_York:20231201T180000
DTSTAMP:20260424T121651
CREATED:20231115T155455Z
LAST-MODIFIED:20231115T155455Z
UID:34240-1701442800-1701453600@esterotoday.com
SUMMARY:ARC Gift Wrapping Event
DESCRIPTION:Free gift wrapping with any donation to the Animal Refuge Center
URL:https://esterotoday.com/event/arc-gift-wrapping-event/
LOCATION:Lee County Sheriff’s Office Miromar Outlets Community Outreach Center
CATEGORIES:Sheriff's Outreach Center
END:VEVENT
BEGIN:VEVENT
DTSTART;TZID=America/New_York:20231205T093000
DTEND;TZID=America/New_York:20231205T100000
DTSTAMP:20260424T121651
CREATED:20231003T010620Z
LAST-MODIFIED:20231003T010620Z
UID:33546-1701768600-1701770400@esterotoday.com
SUMMARY:Board of Lee County Commissioners Meeting
DESCRIPTION:
URL:https://esterotoday.com/event/board-of-lee-county-commissioners-meeting-5/
LOCATION:Old Lee County Courthouse\, 2120 Main Street\, Fort Myers\, FL\, United States
CATEGORIES:Lee County Events
END:VEVENT
BEGIN:VEVENT
DTSTART;TZID=America/New_York:20231205T133000
DTEND;TZID=America/New_York:20231205T143000
DTSTAMP:20260424T121651
CREATED:20231003T010721Z
LAST-MODIFIED:20231003T010721Z
UID:33548-1701783000-1701786600@esterotoday.com
SUMMARY:Board of Lee County Commissioners Workshop
DESCRIPTION:
URL:https://esterotoday.com/event/board-of-lee-county-commissioners-workshop-3/
LOCATION:Administration East Building\, Conference Room 118 2201 Second Street\, Fort Myers\, FL\, 33901\, United States
CATEGORIES:Lee County Events
END:VEVENT
BEGIN:VEVENT
DTSTART;TZID=America/New_York:20231206T093000
DTEND;TZID=America/New_York:20231206T170000
DTSTAMP:20260424T121651
CREATED:20231010T132716Z
LAST-MODIFIED:20231208T152840Z
UID:33615-1701855000-1701882000@esterotoday.com
SUMMARY:Village Council Meeting
DESCRIPTION:Among the items to be discussed \n\nA preliminary design contract with Kimley Horn for the River Oaks Preserve\, a 10-acre\, Village-owned preserve (map above). The Village proposes to add trails\, a pedestrian bridge\, and facilities such as restrooms and water and sewer.\nSecond readings of ordinance revisions to hotel parking areas and day care centers. These items were also discussed at a previous Village Council meeting.\nA workshop to review the framework for the Estero Forever Foundation. Established in 2019\, the organization works to fund projects in Estero and was authorized in 2022 to operate the Village-owned driving range at 9000 Williams Road. This framework will create a more formal relationship between the Foundation and the Village.\nA motion to support the appointment of Mark Novitski to represent the Village at the Lee County MPO Citizen Advisory Committee.
URL:https://esterotoday.com/event/village-council-meeting-4/
LOCATION:Village of Estero\, 9401 Corkscrew Palms Circle\, Estero\, FL\, 33928\, United States
CATEGORIES:Village of Estero Event
END:VEVENT
BEGIN:VEVENT
DTSTART;TZID=America/New_York:20231206T093000
DTEND;TZID=America/New_York:20231206T223000
DTSTAMP:20260424T121651
CREATED:20231003T010844Z
LAST-MODIFIED:20231003T010844Z
UID:33550-1701855000-1701901800@esterotoday.com
SUMMARY:Board of Lee County Commissioners Zoning / Comp Plan Hearings
DESCRIPTION:
URL:https://esterotoday.com/event/board-of-lee-county-commissioners-zoning-comp-plan-hearings-5/
LOCATION:Old Lee County Courthouse\, 2120 Main Street\, Fort Myers\, FL\, United States
CATEGORIES:Lee County Events
END:VEVENT
BEGIN:VEVENT
DTSTART;TZID=America/New_York:20231207T100000
DTEND;TZID=America/New_York:20231207T120000
DTSTAMP:20260424T121651
CREATED:20230818T143149Z
LAST-MODIFIED:20230818T150638Z
UID:32954-1701943200-1701950400@esterotoday.com
SUMMARY:Mall Mutts
DESCRIPTION:Adoptable and adorable dogs visit from the Gulf Coast Humane Society.
URL:https://esterotoday.com/event/mall-mutts-5/
LOCATION:Lee County Sheriff’s Office Community Outreach Center-Miromar Outlets\, 10801 Corkscrew Road Suite 190\, Estero\, FL\, 33928
CATEGORIES:Sheriff's Outreach Center
ATTACH;FMTTYPE=image/jpeg:https://esterotoday.com/wp-content/uploads/2023/08/adoreble-dog.jpg
END:VEVENT
BEGIN:VEVENT
DTSTART;TZID=America/New_York:20231207T180000
DTEND;TZID=America/New_York:20231207T193000
DTSTAMP:20260424T121651
CREATED:20231011T185405Z
LAST-MODIFIED:20240307T193205Z
UID:33627-1701972000-1701977400@esterotoday.com
SUMMARY:The Future of Schools in Greater Estero
DESCRIPTION:  \n  \n			\n			\n				\n				\n				\n				\n			\n				\n				\n			\n				\n				\n				\n				\n				\n				\n				\n				\n				\n				\n				\n				\n				\n				\n				\n				\n				\n				The Future of Schools in Greater Estero\n			\n				Read a Summary of the Meeting\n			\n			\n				\n				\n				\n				\n				\n				\n				\n				\n				\n				Thank you to our Sponsor \n			\n			\n				\n				\n				\n				\n			\n				\n				\n			\n				\n				\n				\n				\n				\n				\n				\n				\n				\n				\n				\n				\n				\n				\n				\n				\n				\n				\n			\n				Watch his Presentation\n			\n				\n				\n				\n				\n				\n				\n					Dr. Adam Molloy\n					Lee County School District Director\, Planning\, Growth\, & Capacity \n					Dr. Adam Molloy\, our first speaker\, addressed how the increasing population\, especially younger residents\, within the Village of Estero and along East Corkscrew will impact the requirement for suitable schools in our area. Adam explained how the District is developing more scalable and standardized measurements for planning new seats and schools for future growth\, and provided the latest plans and answered attendee questions on this subject. \nDr. Molloy is a transformative educational leader working as Director of Planning\, Growth\, and capacity at the School District of Lee County. He is focused on improving educational systems by strategically addressing the structures that cause disruptions & inefficiencies.  He is ethos-driven by the need to advance the success & sustainability of Lee County’s school district. \n					\n				\n			\n			\n				\n				\n				\n				\n				\n				\n				\n				\n				\n				\n			\n				Watch her Presentation\n			\n				\n				\n				\n				\n				\n				\n					Chris Patricca\n					Lee County School Board Member\, District 3 \n					Chris Patricca\, our second speaker\, spoke about her passion for improving educational standards with regard to: \n\nThe need to attract more teachers and provide suitable homes to encourage them to stay in our community – based on the “Workforce Housing” concept\nThe value of volunteers in regard to JA and other potential programs\nEncouraging greater parental involvement\nOther educational initiatives that should be considered.\n\nIn addition to her position as a Lee County’s Schools District 3 member\, Chris is the Chief Operations Officer for TLP Financial Services\, Inc.\, a company she owns with her husband. Her professional experience includes being a Paraprofessional at Pinewoods Elementary School\, a Full-time and Adjunct Professor at the State University of New York\, and a Staff Attorney at The Ayco Company\, L.P.\, a division of Goldman Sachs. \nChris’ educational background includes Juris Doctor\, Seton Hall University School of Law\, Newark\, NJ\, B.A.\, Government\, Clark University\, Worcester\, MA. and A.A.\, Criminal Justice\, Quinsigamond Community College\, Worcester\, MA. Chris’ daughter is a graduate of Dunbar High School. She has two sons who are seniors at Bonita Springs High School and another son who is a junior at South Fort Myers High School. Chris is incredibly proud of her children’s education in our schools.
URL:https://esterotoday.com/event/dec2023/
LOCATION:Estero High School\, 21900 River Ranch Road\, Estero\, FL\, 33928\, United States
CATEGORIES:Engage Estero Event
ORGANIZER;CN="Engage Estero":MAILTO:info@esterotoday.com
END:VEVENT
BEGIN:VEVENT
DTSTART;TZID=America/New_York:20231212T163000
DTEND;TZID=America/New_York:20231212T163000
DTSTAMP:20260424T121651
CREATED:20231124T210926Z
LAST-MODIFIED:20231208T152753Z
UID:35081-1702398600-1702398600@esterotoday.com
SUMMARY:Planning Zoning Design Board Meeting
DESCRIPTION:Agendas are posted the week prior to the meeting. Council meetings are open to the public. \nThe Village Planning\, Zoning and Design Board will discuss several important matters at its next meeting. \nThese meetings are an opportunity for residents to learn more about growth\, development\, and zoning changes within Estero and to voice questions\, concerns\, and comments on these topics. \nAmong the items to be discussed \n• A mixed-use project on a 7-acre vacant lot off Arcos Avenue. Previously zoned for an assisted living facility that was never developed\, the proposed project would include space for storage\, a hotel\, retail/restaurant establishments\, and medical offices. \n• The Goddard School\, a private preschool company\, to build an 11\,650-square-foot learning center off Three Oaks Parkway at the corner of Quente Way and Arcos Avenue. \n• A 111-room Home2 Suites hotel to be build in Coconut Point Mall\, south of the movie theater. \n• Rezoning of a 21.4-acre parcel at Corkscrew Road and Sandy Lane (formerly “The Colonnade”) to allow for development of a 171-unit townhome community.
URL:https://esterotoday.com/event/planning-zoning-design-board-meeting/
LOCATION:Village of Estero\, 9401 Corkscrew Palms Circle\, Estero\, FL\, 33928\, United States
CATEGORIES:Village of Estero Event
END:VEVENT
BEGIN:VEVENT
DTSTART;TZID=America/New_York:20231213T093000
DTEND;TZID=America/New_York:20231213T093000
DTSTAMP:20260424T121651
CREATED:20231124T211026Z
LAST-MODIFIED:20231208T152654Z
UID:35083-1702459800-1702459800@esterotoday.com
SUMMARY:Special Council Meeting
DESCRIPTION:The Village of Estero Council will hold a special meeting for an appeal hearing about the proposed Brooks Town Center apartment development project on Wednesday\, December 13. \nThe project\, proposed for Brooks Town Center (the Winn-Dixie development on Coconut Road) as well as adjacent acreage\, would include demolishing the Winn-Dixie and constructing an apartment building at the site. \nFor several years\, project applicants\, Village officials and administrators\, and Brooks residents have engaged in extensive discussion\, project revisions\, and public comment. The project was ultimately approved with conditions in October by the Village Planning and Zoning Board\, but this was followed on November 7 with an appeal against the project filed by numerous Brooks community residents. \nView a full chronology of the project here. \nWhile 37 residents filed an appeal\, the Village is recommending that the 5 who live within 500 feet of the proposed development are considered “aggrieved parties” whose appeal can move forward for discussion. In the appeal\, these residents outline their concerns that the proposed development is inconsistent with the area’s comprehensive plan and DRI development order\, as well as other concerns. \nVillage staff\, on the other hand\, recommends that the Zoning and Planning Board’s approval decision is affirmed\, rather than reversing the decision as the appeal requests. \nAgenda is available at https://estero-fl.gov/meetings.
URL:https://esterotoday.com/event/special-council-meeting/
LOCATION:Village of Estero\, 9401 Corkscrew Palms Circle\, Estero\, FL\, 33928\, United States
CATEGORIES:Village of Estero Event
END:VEVENT
BEGIN:VEVENT
DTSTART;TZID=America/New_York:20231219T093000
DTEND;TZID=America/New_York:20231219T103000
DTSTAMP:20260424T121651
CREATED:20231003T010938Z
LAST-MODIFIED:20231003T010938Z
UID:33552-1702978200-1702981800@esterotoday.com
SUMMARY:Board of Lee County Commissioners Meeting
DESCRIPTION:
URL:https://esterotoday.com/event/board-of-lee-county-commissioners-meeting-6/
LOCATION:Old Lee County Courthouse\, 2120 Main Street\, Fort Myers\, FL\, United States
CATEGORIES:Lee County Events
END:VEVENT
BEGIN:VEVENT
DTSTART;TZID=America/New_York:20231219T133000
DTEND;TZID=America/New_York:20231219T143000
DTSTAMP:20260424T121651
CREATED:20231003T011057Z
LAST-MODIFIED:20231003T011057Z
UID:33554-1702992600-1702996200@esterotoday.com
SUMMARY:Board of Lee County Commissioners Workshop
DESCRIPTION:
URL:https://esterotoday.com/event/board-of-lee-county-commissioners-workshop-4/
LOCATION:Administration East Building\, Conference Room 118 2201 Second Street\, Fort Myers\, FL\, 33901\, United States
CATEGORIES:Lee County Events
END:VEVENT
BEGIN:VEVENT
DTSTART;TZID=America/New_York:20231220T093000
DTEND;TZID=America/New_York:20231220T103000
DTSTAMP:20260424T121651
CREATED:20231003T011204Z
LAST-MODIFIED:20231003T011204Z
UID:33556-1703064600-1703068200@esterotoday.com
SUMMARY:Board of Lee County Commissioners Zoning / Comp Plan Hearings
DESCRIPTION:
URL:https://esterotoday.com/event/board-of-lee-county-commissioners-zoning-comp-plan-hearings-6/
LOCATION:Old Lee County Courthouse\, 2120 Main Street\, Fort Myers\, FL\, United States
CATEGORIES:Lee County Events
END:VEVENT
BEGIN:VEVENT
DTSTART;TZID=America/New_York:20231220T170000
DTEND;TZID=America/New_York:20231220T190000
DTSTAMP:20260424T121651
CREATED:20230816T145402Z
LAST-MODIFIED:20230816T145402Z
UID:32837-1703091600-1703098800@esterotoday.com
SUMMARY:Women’s Self-Defense Class
DESCRIPTION:Description: Learn basic self-defense techniques Ages-13 & up Registration Email-glevine@sheriffleefl.org – Advance Registration Required! \nDress-Gym attire
URL:https://esterotoday.com/event/womens-self-defense-class-7/
LOCATION:Lee County Sheriff’s Office Community Outreach Center-Miromar Outlets\, 10801 Corkscrew Road Suite 190\, Estero\, FL\, 33928
CATEGORIES:Sheriff's Outreach Center
ATTACH;FMTTYPE=image/jpeg:https://esterotoday.com/wp-content/uploads/2023/08/lee-women-fittness-2.jpg
END:VEVENT
BEGIN:VEVENT
DTSTART;TZID=America/New_York:20231227T103000
DTEND;TZID=America/New_York:20231227T113000
DTSTAMP:20260424T121651
CREATED:20230817T134834Z
LAST-MODIFIED:20230817T140649Z
UID:32898-1703673000-1703676600@esterotoday.com
SUMMARY:Woof Walk
DESCRIPTION:Furry friends from ARC (Animal Refuge Center) will be meeting and greeting guests!
URL:https://esterotoday.com/event/woof-walk-5/
LOCATION:Lee County Sheriff’s Office Community Outreach Center-Miromar Outlets\, 10801 Corkscrew Road Suite 190\, Estero\, FL\, 33928
CATEGORIES:Sheriff's Outreach Center
ATTACH;FMTTYPE=image/jpeg:https://esterotoday.com/wp-content/uploads/2023/08/woof-walk.jpg
END:VEVENT
END:VCALENDAR