BEGIN:VCALENDAR
VERSION:2.0
PRODID:-//EsteroToday.com by Engage Estero - ECPv6.15.20//NONSGML v1.0//EN
CALSCALE:GREGORIAN
METHOD:PUBLISH
X-WR-CALNAME:EsteroToday.com by Engage Estero
X-ORIGINAL-URL:https://esterotoday.com
X-WR-CALDESC:Events for EsteroToday.com by Engage Estero
REFRESH-INTERVAL;VALUE=DURATION:PT1H
X-Robots-Tag:noindex
X-PUBLISHED-TTL:PT1H
BEGIN:VTIMEZONE
TZID:America/New_York
BEGIN:DAYLIGHT
TZOFFSETFROM:-0500
TZOFFSETTO:-0400
TZNAME:EDT
DTSTART:20230312T070000
END:DAYLIGHT
BEGIN:STANDARD
TZOFFSETFROM:-0400
TZOFFSETTO:-0500
TZNAME:EST
DTSTART:20231105T060000
END:STANDARD
BEGIN:DAYLIGHT
TZOFFSETFROM:-0500
TZOFFSETTO:-0400
TZNAME:EDT
DTSTART:20240310T070000
END:DAYLIGHT
BEGIN:STANDARD
TZOFFSETFROM:-0400
TZOFFSETTO:-0500
TZNAME:EST
DTSTART:20241103T060000
END:STANDARD
BEGIN:DAYLIGHT
TZOFFSETFROM:-0500
TZOFFSETTO:-0400
TZNAME:EDT
DTSTART:20250309T070000
END:DAYLIGHT
BEGIN:STANDARD
TZOFFSETFROM:-0400
TZOFFSETTO:-0500
TZNAME:EST
DTSTART:20251102T060000
END:STANDARD
END:VTIMEZONE
BEGIN:VEVENT
DTSTART;TZID=America/New_York:20240117T170000
DTEND;TZID=America/New_York:20240117T190000
DTSTAMP:20260424T123239
CREATED:20230816T145746Z
LAST-MODIFIED:20230816T145746Z
UID:32839-1705510800-1705518000@esterotoday.com
SUMMARY:Women’s Self-Defense Class
DESCRIPTION:Description: Learn basic self-defense techniques Ages-13 & up Registration Email-glevine@sheriffleefl.org – Advance Registration Required! \nDress-Gym attire
URL:https://esterotoday.com/event/womens-self-defense-class-8/
LOCATION:Lee County Sheriff’s Office Community Outreach Center-Miromar Outlets\, 10801 Corkscrew Road Suite 190\, Estero\, FL\, 33928
CATEGORIES:Sheriff's Outreach Center
ATTACH;FMTTYPE=image/jpeg:https://esterotoday.com/wp-content/uploads/2023/08/lee-women-fittness-1.jpg
END:VEVENT
BEGIN:VEVENT
DTSTART;TZID=America/New_York:20240131T103000
DTEND;TZID=America/New_York:20240131T113000
DTSTAMP:20260424T123239
CREATED:20230817T135500Z
LAST-MODIFIED:20230817T140719Z
UID:32900-1706697000-1706700600@esterotoday.com
SUMMARY:Woof Walk
DESCRIPTION:Furry friends from ARC (Animal Refuge Center) will be meeting and greeting guests!
URL:https://esterotoday.com/event/woof-walk-6/
LOCATION:Lee County Sheriff’s Office Community Outreach Center-Miromar Outlets\, 10801 Corkscrew Road Suite 190\, Estero\, FL\, 33928
CATEGORIES:Sheriff's Outreach Center
ATTACH;FMTTYPE=image/jpeg:https://esterotoday.com/wp-content/uploads/2023/08/woof-walk.jpg
END:VEVENT
BEGIN:VEVENT
DTSTART;TZID=America/New_York:20240201T100000
DTEND;TZID=America/New_York:20240201T120000
DTSTAMP:20260424T123239
CREATED:20230818T143506Z
LAST-MODIFIED:20230818T150850Z
UID:32958-1706781600-1706788800@esterotoday.com
SUMMARY:Mall Mutts
DESCRIPTION:Adoptable and adorable dogs visit from the Gulf Coast Humane Society.
URL:https://esterotoday.com/event/mall-mutts-7/
LOCATION:Lee County Sheriff’s Office Community Outreach Center-Miromar Outlets\, 10801 Corkscrew Road Suite 190\, Estero\, FL\, 33928
CATEGORIES:Sheriff's Outreach Center
ATTACH;FMTTYPE=image/jpeg:https://esterotoday.com/wp-content/uploads/2023/08/adoreble-dog.jpg
END:VEVENT
END:VCALENDAR