BEGIN:VCALENDAR
VERSION:2.0
PRODID:-//EsteroToday.com by Engage Estero - ECPv6.15.20//NONSGML v1.0//EN
CALSCALE:GREGORIAN
METHOD:PUBLISH
X-WR-CALNAME:EsteroToday.com by Engage Estero
X-ORIGINAL-URL:https://esterotoday.com
X-WR-CALDESC:Events for EsteroToday.com by Engage Estero
REFRESH-INTERVAL;VALUE=DURATION:PT1H
X-Robots-Tag:noindex
X-PUBLISHED-TTL:PT1H
BEGIN:VTIMEZONE
TZID:America/New_York
BEGIN:DAYLIGHT
TZOFFSETFROM:-0500
TZOFFSETTO:-0400
TZNAME:EDT
DTSTART:20220313T070000
END:DAYLIGHT
BEGIN:STANDARD
TZOFFSETFROM:-0400
TZOFFSETTO:-0500
TZNAME:EST
DTSTART:20221106T060000
END:STANDARD
BEGIN:DAYLIGHT
TZOFFSETFROM:-0500
TZOFFSETTO:-0400
TZNAME:EDT
DTSTART:20230312T070000
END:DAYLIGHT
BEGIN:STANDARD
TZOFFSETFROM:-0400
TZOFFSETTO:-0500
TZNAME:EST
DTSTART:20231105T060000
END:STANDARD
BEGIN:DAYLIGHT
TZOFFSETFROM:-0500
TZOFFSETTO:-0400
TZNAME:EDT
DTSTART:20240310T070000
END:DAYLIGHT
BEGIN:STANDARD
TZOFFSETFROM:-0400
TZOFFSETTO:-0500
TZNAME:EST
DTSTART:20241103T060000
END:STANDARD
END:VTIMEZONE
BEGIN:VEVENT
DTSTART;TZID=America/New_York:20230830T103000
DTEND;TZID=America/New_York:20230830T233000
DTSTAMP:20260424T065851
CREATED:20230817T134003Z
LAST-MODIFIED:20230817T134128Z
UID:32889-1693391400-1693438200@esterotoday.com
SUMMARY:Woof Walk
DESCRIPTION:Furry friends from ARC (Animal Refuge Center) will be meeting and greeting guests!
URL:https://esterotoday.com/event/woof-walk/
LOCATION:Lee County Sheriff’s Office Community Outreach Center-Miromar Outlets\, 10801 Corkscrew Road Suite 190\, Estero\, FL\, 33928
CATEGORIES:Sheriff's Outreach Center
ATTACH;FMTTYPE=image/jpeg:https://esterotoday.com/wp-content/uploads/2023/08/woof-walk.jpg
END:VEVENT
END:VCALENDAR