BEGIN:VCALENDAR
VERSION:2.0
PRODID:-//EsteroToday.com by Engage Estero - ECPv6.15.20//NONSGML v1.0//EN
CALSCALE:GREGORIAN
METHOD:PUBLISH
X-WR-CALNAME:EsteroToday.com by Engage Estero
X-ORIGINAL-URL:https://esterotoday.com
X-WR-CALDESC:Events for EsteroToday.com by Engage Estero
REFRESH-INTERVAL;VALUE=DURATION:PT1H
X-Robots-Tag:noindex
X-PUBLISHED-TTL:PT1H
BEGIN:VTIMEZONE
TZID:America/New_York
BEGIN:DAYLIGHT
TZOFFSETFROM:-0500
TZOFFSETTO:-0400
TZNAME:EDT
DTSTART:20220313T070000
END:DAYLIGHT
BEGIN:STANDARD
TZOFFSETFROM:-0400
TZOFFSETTO:-0500
TZNAME:EST
DTSTART:20221106T060000
END:STANDARD
BEGIN:DAYLIGHT
TZOFFSETFROM:-0500
TZOFFSETTO:-0400
TZNAME:EDT
DTSTART:20230312T070000
END:DAYLIGHT
BEGIN:STANDARD
TZOFFSETFROM:-0400
TZOFFSETTO:-0500
TZNAME:EST
DTSTART:20231105T060000
END:STANDARD
BEGIN:DAYLIGHT
TZOFFSETFROM:-0500
TZOFFSETTO:-0400
TZNAME:EDT
DTSTART:20240310T070000
END:DAYLIGHT
BEGIN:STANDARD
TZOFFSETFROM:-0400
TZOFFSETTO:-0500
TZNAME:EST
DTSTART:20241103T060000
END:STANDARD
END:VTIMEZONE
BEGIN:VEVENT
DTSTART;TZID=America/New_York:20230816T080000
DTEND;TZID=America/New_York:20230816T170000
DTSTAMP:20260424T081831
CREATED:20230816T150246Z
LAST-MODIFIED:20230816T150246Z
UID:32846-1692172800-1692205200@esterotoday.com
SUMMARY:Women’s Self-Defense Class
DESCRIPTION: Learn basic self-defense techniques Ages-13 & up Registration Email-glevine@sheriffleefl.org – Advance Registration Required! \nDress-Gym attire
URL:https://esterotoday.com/event/womens-self-defense-class-11/
LOCATION:Lee County Sheriff’s Office Community Outreach Center-Miromar Outlets\, 10801 Corkscrew Road Suite 190\, Estero\, FL\, 33928
CATEGORIES:Sheriff's Outreach Center
ATTACH;FMTTYPE=image/jpeg:https://esterotoday.com/wp-content/uploads/2023/08/lee-women-fittness-2.jpg
END:VEVENT
BEGIN:VEVENT
DTSTART;TZID=America/New_York:20230816T170000
DTEND;TZID=America/New_York:20230816T190000
DTSTAMP:20260424T081831
CREATED:20230816T143305Z
LAST-MODIFIED:20230817T232529Z
UID:32823-1692205200-1692212400@esterotoday.com
SUMMARY:Women’s Self-Defense Class
DESCRIPTION:Description: Learn basic self-defense techniques Ages-13 & up Registration Email-glevine@sheriffleefl.org – Advance Registration Required! \nDress-Gym attire
URL:https://esterotoday.com/event/womens-self-defense-class-3/
LOCATION:Lee County Sheriff’s Office Community Outreach Center-Miromar Outlets\, 10801 Corkscrew Road Suite 190\, Estero\, FL\, 33928
CATEGORIES:Sheriff's Outreach Center
ATTACH;FMTTYPE=image/jpeg:https://esterotoday.com/wp-content/uploads/2023/08/lee-women-fittness.jpg
END:VEVENT
END:VCALENDAR