BEGIN:VCALENDAR
VERSION:2.0
PRODID:-//EsteroToday.com by Engage Estero - ECPv6.15.20//NONSGML v1.0//EN
CALSCALE:GREGORIAN
METHOD:PUBLISH
X-WR-CALNAME:EsteroToday.com by Engage Estero
X-ORIGINAL-URL:https://esterotoday.com
X-WR-CALDESC:Events for EsteroToday.com by Engage Estero
REFRESH-INTERVAL;VALUE=DURATION:PT1H
X-Robots-Tag:noindex
X-PUBLISHED-TTL:PT1H
BEGIN:VTIMEZONE
TZID:America/New_York
BEGIN:DAYLIGHT
TZOFFSETFROM:-0500
TZOFFSETTO:-0400
TZNAME:EDT
DTSTART:20240310T070000
END:DAYLIGHT
BEGIN:STANDARD
TZOFFSETFROM:-0400
TZOFFSETTO:-0500
TZNAME:EST
DTSTART:20241103T060000
END:STANDARD
BEGIN:DAYLIGHT
TZOFFSETFROM:-0500
TZOFFSETTO:-0400
TZNAME:EDT
DTSTART:20250309T070000
END:DAYLIGHT
BEGIN:STANDARD
TZOFFSETFROM:-0400
TZOFFSETTO:-0500
TZNAME:EST
DTSTART:20251102T060000
END:STANDARD
BEGIN:DAYLIGHT
TZOFFSETFROM:-0500
TZOFFSETTO:-0400
TZNAME:EDT
DTSTART:20260308T070000
END:DAYLIGHT
BEGIN:STANDARD
TZOFFSETFROM:-0400
TZOFFSETTO:-0500
TZNAME:EST
DTSTART:20261101T060000
END:STANDARD
END:VTIMEZONE
BEGIN:VEVENT
DTSTART;TZID=America/New_York:20250620T090000
DTEND;TZID=America/New_York:20250620T170000
DTSTAMP:20260423T025246
CREATED:20250603T130314Z
LAST-MODIFIED:20250603T130314Z
UID:42079-1750410000-1750438800@esterotoday.com
SUMMARY:Public Hearing on Transportation
DESCRIPTION:Adoption of the FY 2025/2026 to FY 2029/2030 Transportation Improvement Program that includes the federal and state funded transportation improvements in Lee County that are planned to be undertaken over the next five years. A link to the document for review is located here: https://leempo.com/?__wpdm_pdf_viewer=4479|17476890589721\n\n\n\nApprove the updated federal and state project priority list that include the roadway projects seeking federal and state funding that can be found here – https://leempo.com/download/metropolitan-planning-organization-mpo-board-meeting-2025-06-20/\n\n\n\nApprove the multi-modal project priorities (bicycle\, pedestrian\, transit and operational priorities) that can be found here – https://leempo.com/download/metropolitan-planning-organization-mpo-board-meeting-2025-06-20/
URL:https://esterotoday.com/event/public-hearing-on-transportation/
LOCATION:Lee County Administration East Building located at 2201 Second Street in Room 118
CATEGORIES:Safety
END:VEVENT
END:VCALENDAR