BEGIN:VCALENDAR
VERSION:2.0
PRODID:-//EsteroToday.com by Engage Estero - ECPv6.15.20//NONSGML v1.0//EN
CALSCALE:GREGORIAN
METHOD:PUBLISH
X-WR-CALNAME:EsteroToday.com by Engage Estero
X-ORIGINAL-URL:https://esterotoday.com
X-WR-CALDESC:Events for EsteroToday.com by Engage Estero
REFRESH-INTERVAL;VALUE=DURATION:PT1H
X-Robots-Tag:noindex
X-PUBLISHED-TTL:PT1H
BEGIN:VTIMEZONE
TZID:America/New_York
BEGIN:DAYLIGHT
TZOFFSETFROM:-0500
TZOFFSETTO:-0400
TZNAME:EDT
DTSTART:20240310T070000
END:DAYLIGHT
BEGIN:STANDARD
TZOFFSETFROM:-0400
TZOFFSETTO:-0500
TZNAME:EST
DTSTART:20241103T060000
END:STANDARD
BEGIN:DAYLIGHT
TZOFFSETFROM:-0500
TZOFFSETTO:-0400
TZNAME:EDT
DTSTART:20250309T070000
END:DAYLIGHT
BEGIN:STANDARD
TZOFFSETFROM:-0400
TZOFFSETTO:-0500
TZNAME:EST
DTSTART:20251102T060000
END:STANDARD
BEGIN:DAYLIGHT
TZOFFSETFROM:-0500
TZOFFSETTO:-0400
TZNAME:EDT
DTSTART:20260308T070000
END:DAYLIGHT
BEGIN:STANDARD
TZOFFSETFROM:-0400
TZOFFSETTO:-0500
TZNAME:EST
DTSTART:20261101T060000
END:STANDARD
END:VTIMEZONE
BEGIN:VEVENT
DTSTART;TZID=America/New_York:20250607T110000
DTEND;TZID=America/New_York:20250607T150000
DTSTAMP:20260423T025258
CREATED:20250603T134456Z
LAST-MODIFIED:20250603T134456Z
UID:42093-1749294000-1749308400@esterotoday.com
SUMMARY:Hurricane Preparedness Expo
DESCRIPTION:The City of Fort Myers is spearheading community preparedness with its annual Hurricane Preparedness Expo on Saturday\, June 7\, 2025. Scheduled from 11:00 a.m. to 3:00 p.m. at the Collaboratory (2031 Jackson Street\, Fort Myers)\, this free event offers residents\, business owners\, and visitors a comprehensive platform to engage with emergency response teams and partner organizations. Attendees can explore interactive exhibits\, gather vital preparedness resources\, and receive guidance on safeguarding their families and properties during hurricane events.  Information on the Expo found here.
URL:https://esterotoday.com/event/hurricane-preparedness-expo/
LOCATION:Collaboratory\, 2031 Jackson Street\, Fort Myers\, FL\, 33901\, United States
CATEGORIES:Safety
END:VEVENT
END:VCALENDAR