BEGIN:VCALENDAR
VERSION:2.0
PRODID:-//EsteroToday.com by Engage Estero - ECPv6.15.20//NONSGML v1.0//EN
CALSCALE:GREGORIAN
METHOD:PUBLISH
X-WR-CALNAME:EsteroToday.com by Engage Estero
X-ORIGINAL-URL:https://esterotoday.com
X-WR-CALDESC:Events for EsteroToday.com by Engage Estero
REFRESH-INTERVAL;VALUE=DURATION:PT1H
X-Robots-Tag:noindex
X-PUBLISHED-TTL:PT1H
BEGIN:VTIMEZONE
TZID:America/New_York
BEGIN:DAYLIGHT
TZOFFSETFROM:-0500
TZOFFSETTO:-0400
TZNAME:EDT
DTSTART:20240310T070000
END:DAYLIGHT
BEGIN:STANDARD
TZOFFSETFROM:-0400
TZOFFSETTO:-0500
TZNAME:EST
DTSTART:20241103T060000
END:STANDARD
BEGIN:DAYLIGHT
TZOFFSETFROM:-0500
TZOFFSETTO:-0400
TZNAME:EDT
DTSTART:20250309T070000
END:DAYLIGHT
BEGIN:STANDARD
TZOFFSETFROM:-0400
TZOFFSETTO:-0500
TZNAME:EST
DTSTART:20251102T060000
END:STANDARD
BEGIN:DAYLIGHT
TZOFFSETFROM:-0500
TZOFFSETTO:-0400
TZNAME:EDT
DTSTART:20260308T070000
END:DAYLIGHT
BEGIN:STANDARD
TZOFFSETFROM:-0400
TZOFFSETTO:-0500
TZNAME:EST
DTSTART:20261101T060000
END:STANDARD
END:VTIMEZONE
BEGIN:VEVENT
DTSTART;TZID=America/New_York:20250513T170000
DTEND;TZID=America/New_York:20250513T190000
DTSTAMP:20260423T042525
CREATED:20250509T153507Z
LAST-MODIFIED:20250509T153507Z
UID:41803-1747155600-1747162800@esterotoday.com
SUMMARY:Long Range Transportation Public Workshop
DESCRIPTION:The Lee County Metropolitan Planning Organization is responsible for transportation planning in the Cities of Bonita Springs\, Cape Coral\, Fort Myers\, and Sanibel\, the Town of Fort Myers Beach\, the Village of Estero\, and unincorporated Lee County. \nThe Long Range Transportation Plan (LRTP) is a federally mandated plan that identifies a vision and addresses all transportation needs of a community over the next 20 years\, with updates added every five years. \nThis plan determines which projects get funding and when. \nThe 2050 Long Range Transportation Plan (LRTP) is the latest five-year update and a multimodal plan that makes recommendations for road\, bus\, bike\, sidewalk\, and freight-related projects with identified short-term and long-term strategies.
URL:https://esterotoday.com/event/long-range-transportation-public-workshop/
LOCATION:Lakes Regional Library\, 15290 Bass Road\, Fort Myers\, FL\, 33919\, United States
CATEGORIES:Safety
END:VEVENT
END:VCALENDAR