BEGIN:VCALENDAR
VERSION:2.0
PRODID:-//EsteroToday.com by Engage Estero - ECPv6.15.20//NONSGML v1.0//EN
CALSCALE:GREGORIAN
METHOD:PUBLISH
X-ORIGINAL-URL:https://esterotoday.com
X-WR-CALDESC:Events for EsteroToday.com by Engage Estero
REFRESH-INTERVAL;VALUE=DURATION:PT1H
X-Robots-Tag:noindex
X-PUBLISHED-TTL:PT1H
BEGIN:VTIMEZONE
TZID:America/New_York
BEGIN:DAYLIGHT
TZOFFSETFROM:-0500
TZOFFSETTO:-0400
TZNAME:EDT
DTSTART:20220313T070000
END:DAYLIGHT
BEGIN:STANDARD
TZOFFSETFROM:-0400
TZOFFSETTO:-0500
TZNAME:EST
DTSTART:20221106T060000
END:STANDARD
BEGIN:DAYLIGHT
TZOFFSETFROM:-0500
TZOFFSETTO:-0400
TZNAME:EDT
DTSTART:20230312T070000
END:DAYLIGHT
BEGIN:STANDARD
TZOFFSETFROM:-0400
TZOFFSETTO:-0500
TZNAME:EST
DTSTART:20231105T060000
END:STANDARD
BEGIN:DAYLIGHT
TZOFFSETFROM:-0500
TZOFFSETTO:-0400
TZNAME:EDT
DTSTART:20240310T070000
END:DAYLIGHT
BEGIN:STANDARD
TZOFFSETFROM:-0400
TZOFFSETTO:-0500
TZNAME:EST
DTSTART:20241103T060000
END:STANDARD
END:VTIMEZONE
BEGIN:VEVENT
DTSTART;TZID=America/New_York:20230315T090000
DTEND;TZID=America/New_York:20230315T110000
DTSTAMP:20260422T173652
CREATED:20230302T151412Z
LAST-MODIFIED:20230302T151412Z
UID:31485-1678870800-1678878000@esterotoday.com
SUMMARY:Mobile Food Pantry
DESCRIPTION:Community Cooperative Announces March Mobile Food Pantry Schedule and Locations \nFORT MYERS\, FL. (February 28\, 2023) – Community Cooperative announces its Mobile Food Pantries schedule for March. \nThe Mobile Food Pantry program is one of Community Cooperative’s most innovative ways to bring food and assistance to neighborhoods with high food insecurity and that lack resources. \nID is required for all attendees and bringing bags is encouraged with a limit of one mobile food pantry visit per month per household address. \nThe Community Market is open Monday through Friday from 9 a.m. to noon for emergency groceries at the main campus\, located at 3429 Dr. Martin Luther King\, Jr. Blvd. in Fort Myers for those who cannot access a mobile site. \nIf you are interested in financially supporting\, volunteering for\, or have any questions about our Growing Healthy Kids & Families program\, please visit us at www.CommunityCooperative.com or call 239-332-SOUP (7687).
URL:https://esterotoday.com/event/mobile-food-pantry/
LOCATION:Literacy Council Gulf Coast\, 26820 Old 41 Road\, Bonita Springs\, FL\, 34135
CATEGORIES:Health
END:VEVENT
END:VCALENDAR