BEGIN:VCALENDAR
VERSION:2.0
PRODID:-//EsteroToday.com by Engage Estero - ECPv6.15.20//NONSGML v1.0//EN
CALSCALE:GREGORIAN
METHOD:PUBLISH
X-ORIGINAL-URL:https://esterotoday.com
X-WR-CALDESC:Events for EsteroToday.com by Engage Estero
REFRESH-INTERVAL;VALUE=DURATION:PT1H
X-Robots-Tag:noindex
X-PUBLISHED-TTL:PT1H
BEGIN:VTIMEZONE
TZID:America/New_York
BEGIN:DAYLIGHT
TZOFFSETFROM:-0500
TZOFFSETTO:-0400
TZNAME:EDT
DTSTART:20200308T070000
END:DAYLIGHT
BEGIN:STANDARD
TZOFFSETFROM:-0400
TZOFFSETTO:-0500
TZNAME:EST
DTSTART:20201101T060000
END:STANDARD
BEGIN:DAYLIGHT
TZOFFSETFROM:-0500
TZOFFSETTO:-0400
TZNAME:EDT
DTSTART:20210314T070000
END:DAYLIGHT
BEGIN:STANDARD
TZOFFSETFROM:-0400
TZOFFSETTO:-0500
TZNAME:EST
DTSTART:20211107T060000
END:STANDARD
BEGIN:DAYLIGHT
TZOFFSETFROM:-0500
TZOFFSETTO:-0400
TZNAME:EDT
DTSTART:20220313T070000
END:DAYLIGHT
BEGIN:STANDARD
TZOFFSETFROM:-0400
TZOFFSETTO:-0500
TZNAME:EST
DTSTART:20221106T060000
END:STANDARD
END:VTIMEZONE
BEGIN:VEVENT
DTSTART;TZID=America/New_York:20210922T110000
DTEND;TZID=America/New_York:20210922T123000
DTSTAMP:20260423T184621
CREATED:20210901T200423Z
LAST-MODIFIED:20210901T200423Z
UID:26998-1632308400-1632313800@esterotoday.com
SUMMARY:Injury Prevention Live Webinar
DESCRIPTION:Education about methods and techniques available to reduce accidental falls\, followed by a 15 minute Tai-Chi demonstration.\nRegister for the webinar at https://us06web.zoom.us/meeting/register/tZEkcuCorT0vHNzyDr6YZhQANo215voJvqBo or call (239) 351-5550 \nStep Smart is committed to empowering all older adults in SWFL to age well and stay falls free. We are partnering with the National Council on Aging (NCOA) to mark Falls Prevention Awareness Week! \nPrintable Flyer
URL:https://esterotoday.com/event/injury-prevention-live-webinar/
CATEGORIES:Health
END:VEVENT
END:VCALENDAR