BEGIN:VCALENDAR
VERSION:2.0
PRODID:-//EsteroToday.com by Engage Estero - ECPv6.15.20//NONSGML v1.0//EN
CALSCALE:GREGORIAN
METHOD:PUBLISH
X-ORIGINAL-URL:https://esterotoday.com
X-WR-CALDESC:Events for EsteroToday.com by Engage Estero
REFRESH-INTERVAL;VALUE=DURATION:PT1H
X-Robots-Tag:noindex
X-PUBLISHED-TTL:PT1H
BEGIN:VTIMEZONE
TZID:America/New_York
BEGIN:DAYLIGHT
TZOFFSETFROM:-0500
TZOFFSETTO:-0400
TZNAME:EDT
DTSTART:20200308T070000
END:DAYLIGHT
BEGIN:STANDARD
TZOFFSETFROM:-0400
TZOFFSETTO:-0500
TZNAME:EST
DTSTART:20201101T060000
END:STANDARD
BEGIN:DAYLIGHT
TZOFFSETFROM:-0500
TZOFFSETTO:-0400
TZNAME:EDT
DTSTART:20210314T070000
END:DAYLIGHT
BEGIN:STANDARD
TZOFFSETFROM:-0400
TZOFFSETTO:-0500
TZNAME:EST
DTSTART:20211107T060000
END:STANDARD
BEGIN:DAYLIGHT
TZOFFSETFROM:-0500
TZOFFSETTO:-0400
TZNAME:EDT
DTSTART:20220313T070000
END:DAYLIGHT
BEGIN:STANDARD
TZOFFSETFROM:-0400
TZOFFSETTO:-0500
TZNAME:EST
DTSTART:20221106T060000
END:STANDARD
END:VTIMEZONE
BEGIN:VEVENT
DTSTART;VALUE=DATE:20210130
DTEND;VALUE=DATE:20210131
DTSTAMP:20260424T080801
CREATED:20210119T142624Z
LAST-MODIFIED:20210119T142624Z
UID:25626-1611964800-1612051199@esterotoday.com
SUMMARY:Estero Health and Wellness Fair: Goodie Bag Pickup
DESCRIPTION:Lee County Parks & Recreation and Lee Health will be hosting a virtual Health and Wellness Symposium on Wednesday\, February 3 and Thursday\, February 4\, 2021. Local businesses and organizations will be live and discuss topics such as veins\, memory\, cooking demonstrations\, and more. Goodie Bag pickup is Jan. 30. \nRegister for details: https://www.leehealth.org/EsteroHealthWellnessSymposium
URL:https://esterotoday.com/event/estero-health-and-wellness-fair-goodie-bag-pickup/
CATEGORIES:Health
ORGANIZER;CN="Lee Health Coconut Point":MAILTO:healthylifecenter@leehealth.org
END:VEVENT
END:VCALENDAR