BEGIN:VCALENDAR
VERSION:2.0
PRODID:-//EsteroToday.com by Engage Estero - ECPv6.15.20//NONSGML v1.0//EN
CALSCALE:GREGORIAN
METHOD:PUBLISH
X-WR-CALNAME:EsteroToday.com by Engage Estero
X-ORIGINAL-URL:https://esterotoday.com
X-WR-CALDESC:Events for EsteroToday.com by Engage Estero
REFRESH-INTERVAL;VALUE=DURATION:PT1H
X-Robots-Tag:noindex
X-PUBLISHED-TTL:PT1H
BEGIN:VTIMEZONE
TZID:America/New_York
BEGIN:DAYLIGHT
TZOFFSETFROM:-0500
TZOFFSETTO:-0400
TZNAME:EDT
DTSTART:20220313T070000
END:DAYLIGHT
BEGIN:STANDARD
TZOFFSETFROM:-0400
TZOFFSETTO:-0500
TZNAME:EST
DTSTART:20221106T060000
END:STANDARD
BEGIN:DAYLIGHT
TZOFFSETFROM:-0500
TZOFFSETTO:-0400
TZNAME:EDT
DTSTART:20230312T070000
END:DAYLIGHT
BEGIN:STANDARD
TZOFFSETFROM:-0400
TZOFFSETTO:-0500
TZNAME:EST
DTSTART:20231105T060000
END:STANDARD
BEGIN:DAYLIGHT
TZOFFSETFROM:-0500
TZOFFSETTO:-0400
TZNAME:EDT
DTSTART:20240310T070000
END:DAYLIGHT
BEGIN:STANDARD
TZOFFSETFROM:-0400
TZOFFSETTO:-0500
TZNAME:EST
DTSTART:20241103T060000
END:STANDARD
END:VTIMEZONE
BEGIN:VEVENT
DTSTART;TZID=America/New_York:20231103T090000
DTEND;TZID=America/New_York:20231103T100000
DTSTAMP:20260422T044734
CREATED:20231025T074410Z
LAST-MODIFIED:20231025T074410Z
UID:34004-1699002000-1699005600@esterotoday.com
SUMMARY:Safely Slimming Down: Unveiling the Truth about Weight Loss Medications
DESCRIPTION:Learn the potential risks and benefits associated with weight loss medications\, so you can make informed decisions.\nVenue: Lee Health Coconut Point
URL:https://esterotoday.com/event/safely-slimming-down-unveiling-the-truth-about-weight-loss-medications/
LOCATION:Lee Health Coconut Point
CATEGORIES:Health
END:VEVENT
BEGIN:VEVENT
DTSTART;TZID=America/New_York:20231117T100000
DTEND;TZID=America/New_York:20231117T110000
DTSTAMP:20260422T044734
CREATED:20231025T075654Z
LAST-MODIFIED:20231025T075654Z
UID:34031-1700215200-1700218800@esterotoday.com
SUMMARY:Painting with Passion
DESCRIPTION:An immersive art event where you can unleash your creativity and explore the vibrant world of painting. Discover the joy self-expression through brushstrokes and colors in a supportive and inspiring environment.
URL:https://esterotoday.com/event/painting-with-passion/
LOCATION:Florida Blue
CATEGORIES:Health
END:VEVENT
BEGIN:VEVENT
DTSTART;TZID=America/New_York:20231128T100000
DTEND;TZID=America/New_York:20231128T150000
DTSTAMP:20260422T044734
CREATED:20231025T074559Z
LAST-MODIFIED:20231025T074559Z
UID:34006-1701165600-1701183600@esterotoday.com
SUMMARY:Mobile Blood Drive
DESCRIPTION:Your donation through the Lee Health Blood Center will stay in Lee County and benefit local residents and visitors in need. Appointments encouraged. Call 239-468-0050 to schedule.
URL:https://esterotoday.com/event/mobile-blood-drive-4/
LOCATION:Lee Health Coconut Point
CATEGORIES:Health
END:VEVENT
BEGIN:VEVENT
DTSTART;TZID=America/New_York:20231130T170000
DTEND;TZID=America/New_York:20231130T183000
DTSTAMP:20260422T044734
CREATED:20231109T041655Z
LAST-MODIFIED:20231109T041655Z
UID:34123-1701363600-1701369000@esterotoday.com
SUMMARY:Lee Health Celebrates 5 Years at Coconut Point
DESCRIPTION:Join Lee Health Coconut Point as they celebrate 5 years serving the Greater Estero area. Stroll the Open House starting at 5 pm and enjoy the ceremony at 5:30\, including a special recognition of Don Eslick\, “Mr. Estero”. Food will be provided. RSVP preferred at 239-468-0050.
URL:https://esterotoday.com/event/lee-health-celebrates-5-years-at-coconut-point/
LOCATION:Lee Health Coconut Point
CATEGORIES:Health
ATTACH;FMTTYPE=image/png:https://esterotoday.com/wp-content/uploads/2023/11/unnamed.png
END:VEVENT
END:VCALENDAR