BEGIN:VCALENDAR
VERSION:2.0
PRODID:-//EsteroToday.com by Engage Estero - ECPv6.15.20//NONSGML v1.0//EN
CALSCALE:GREGORIAN
METHOD:PUBLISH
X-WR-CALNAME:EsteroToday.com by Engage Estero
X-ORIGINAL-URL:https://esterotoday.com
X-WR-CALDESC:Events for EsteroToday.com by Engage Estero
REFRESH-INTERVAL;VALUE=DURATION:PT1H
X-Robots-Tag:noindex
X-PUBLISHED-TTL:PT1H
BEGIN:VTIMEZONE
TZID:America/New_York
BEGIN:DAYLIGHT
TZOFFSETFROM:-0500
TZOFFSETTO:-0400
TZNAME:EDT
DTSTART:20220313T070000
END:DAYLIGHT
BEGIN:STANDARD
TZOFFSETFROM:-0400
TZOFFSETTO:-0500
TZNAME:EST
DTSTART:20221106T060000
END:STANDARD
BEGIN:DAYLIGHT
TZOFFSETFROM:-0500
TZOFFSETTO:-0400
TZNAME:EDT
DTSTART:20230312T070000
END:DAYLIGHT
BEGIN:STANDARD
TZOFFSETFROM:-0400
TZOFFSETTO:-0500
TZNAME:EST
DTSTART:20231105T060000
END:STANDARD
BEGIN:DAYLIGHT
TZOFFSETFROM:-0500
TZOFFSETTO:-0400
TZNAME:EDT
DTSTART:20240310T070000
END:DAYLIGHT
BEGIN:STANDARD
TZOFFSETFROM:-0400
TZOFFSETTO:-0500
TZNAME:EST
DTSTART:20241103T060000
END:STANDARD
END:VTIMEZONE
BEGIN:VEVENT
DTSTART;TZID=America/New_York:20230919T100000
DTEND;TZID=America/New_York:20230919T110000
DTSTAMP:20260422T073527
CREATED:20230905T133834Z
LAST-MODIFIED:20230911T151726Z
UID:33074-1695117600-1695121200@esterotoday.com
SUMMARY:Dizziness Series
DESCRIPTION:This two session series will demystify and defeat dizziness in your life.
URL:https://esterotoday.com/event/dizziness-series/
LOCATION:Lee Health Coconut Point
CATEGORIES:Health
END:VEVENT
BEGIN:VEVENT
DTSTART;TZID=America/New_York:20230922T090000
DTEND;TZID=America/New_York:20230922T130000
DTSTAMP:20260422T073527
CREATED:20230906T061051Z
LAST-MODIFIED:20230911T151712Z
UID:33091-1695373200-1695387600@esterotoday.com
SUMMARY:Bone Health Bootcamp
DESCRIPTION:This day of programs will discuss risks for osteoporosis\, exercises and movements\, nutrition tips\, and medications for optimal bone health.
URL:https://esterotoday.com/event/bone-health-bootcamp/
LOCATION:Lee Health Coconut Point
CATEGORIES:Health
END:VEVENT
BEGIN:VEVENT
DTSTART;TZID=America/New_York:20230925T100000
DTEND;TZID=America/New_York:20230925T110000
DTSTAMP:20260422T073527
CREATED:20230905T134025Z
LAST-MODIFIED:20230911T151722Z
UID:33076-1695636000-1695639600@esterotoday.com
SUMMARY:Dizziness Series
DESCRIPTION:This two session series will demystify and defeat dizziness in your life.
URL:https://esterotoday.com/event/dizziness-series-2/
LOCATION:Lee Health Coconut Point
CATEGORIES:Health
END:VEVENT
END:VCALENDAR