BEGIN:VCALENDAR
VERSION:2.0
PRODID:-//EsteroToday.com by Engage Estero - ECPv6.15.20//NONSGML v1.0//EN
CALSCALE:GREGORIAN
METHOD:PUBLISH
X-ORIGINAL-URL:https://esterotoday.com
X-WR-CALDESC:Events for EsteroToday.com by Engage Estero
REFRESH-INTERVAL;VALUE=DURATION:PT1H
X-Robots-Tag:noindex
X-PUBLISHED-TTL:PT1H
BEGIN:VTIMEZONE
TZID:America/New_York
BEGIN:DAYLIGHT
TZOFFSETFROM:-0500
TZOFFSETTO:-0400
TZNAME:EDT
DTSTART:20210314T070000
END:DAYLIGHT
BEGIN:STANDARD
TZOFFSETFROM:-0400
TZOFFSETTO:-0500
TZNAME:EST
DTSTART:20211107T060000
END:STANDARD
BEGIN:DAYLIGHT
TZOFFSETFROM:-0500
TZOFFSETTO:-0400
TZNAME:EDT
DTSTART:20220313T070000
END:DAYLIGHT
BEGIN:STANDARD
TZOFFSETFROM:-0400
TZOFFSETTO:-0500
TZNAME:EST
DTSTART:20221106T060000
END:STANDARD
BEGIN:DAYLIGHT
TZOFFSETFROM:-0500
TZOFFSETTO:-0400
TZNAME:EDT
DTSTART:20230312T070000
END:DAYLIGHT
BEGIN:STANDARD
TZOFFSETFROM:-0400
TZOFFSETTO:-0500
TZNAME:EST
DTSTART:20231105T060000
END:STANDARD
END:VTIMEZONE
BEGIN:VEVENT
DTSTART;TZID=America/New_York:20221202T090000
DTEND;TZID=America/New_York:20221202T100000
DTSTAMP:20260422T202143
CREATED:20221125T191232Z
LAST-MODIFIED:20221125T191232Z
UID:30369-1669971600-1669975200@esterotoday.com
SUMMARY:Farm to Feed: Root Crops
DESCRIPTION:Join this class to learn all about growing your own root veggies in Southwest Florida!
URL:https://esterotoday.com/event/farm-to-feed-root-crops/
LOCATION:Lee Health Coconut Point
CATEGORIES:Health
END:VEVENT
BEGIN:VEVENT
DTSTART;TZID=America/New_York:20221213T083000
DTEND;TZID=America/New_York:20221213T113000
DTSTAMP:20260422T202143
CREATED:20221125T191352Z
LAST-MODIFIED:20221125T191352Z
UID:30371-1670920200-1670931000@esterotoday.com
SUMMARY:Skin Cancer Screening
DESCRIPTION:An advanced dermatology provider will be perform skin checks and address your skin concerns with an appointment. RSVP at 239-468-0050.
URL:https://esterotoday.com/event/skin-cancer-screening/
LOCATION:Lee Health Coconut Point
CATEGORIES:Health
END:VEVENT
END:VCALENDAR