BEGIN:VCALENDAR
VERSION:2.0
PRODID:-//EsteroToday.com by Engage Estero - ECPv6.15.20//NONSGML v1.0//EN
CALSCALE:GREGORIAN
METHOD:PUBLISH
X-ORIGINAL-URL:https://esterotoday.com
X-WR-CALDESC:Events for EsteroToday.com by Engage Estero
REFRESH-INTERVAL;VALUE=DURATION:PT1H
X-Robots-Tag:noindex
X-PUBLISHED-TTL:PT1H
BEGIN:VTIMEZONE
TZID:America/New_York
BEGIN:DAYLIGHT
TZOFFSETFROM:-0500
TZOFFSETTO:-0400
TZNAME:EDT
DTSTART:20210314T070000
END:DAYLIGHT
BEGIN:STANDARD
TZOFFSETFROM:-0400
TZOFFSETTO:-0500
TZNAME:EST
DTSTART:20211107T060000
END:STANDARD
BEGIN:DAYLIGHT
TZOFFSETFROM:-0500
TZOFFSETTO:-0400
TZNAME:EDT
DTSTART:20220313T070000
END:DAYLIGHT
BEGIN:STANDARD
TZOFFSETFROM:-0400
TZOFFSETTO:-0500
TZNAME:EST
DTSTART:20221106T060000
END:STANDARD
BEGIN:DAYLIGHT
TZOFFSETFROM:-0500
TZOFFSETTO:-0400
TZNAME:EDT
DTSTART:20230312T070000
END:DAYLIGHT
BEGIN:STANDARD
TZOFFSETFROM:-0400
TZOFFSETTO:-0500
TZNAME:EST
DTSTART:20231105T060000
END:STANDARD
END:VTIMEZONE
BEGIN:VEVENT
DTSTART;TZID=America/New_York:20220402T093000
DTEND;TZID=America/New_York:20220402T110000
DTSTAMP:20260423T071831
CREATED:20220330T125823Z
LAST-MODIFIED:20220330T125823Z
UID:28296-1648891800-1648897200@esterotoday.com
SUMMARY:Managing the Risk of Extreme Heat
DESCRIPTION:In this webinar\, Miami’s Chief Heat Officer will discuss threats\, strategies\, and potential solutions to the effects of extreme heat on Florida residents.
URL:https://esterotoday.com/event/managing-the-risk-of-extreme-heat/
CATEGORIES:Health
ORGANIZER;CN="League of Women Voters":MAILTO:reservations@lwvlee.org
END:VEVENT
BEGIN:VEVENT
DTSTART;TZID=America/New_York:20220418T100000
DTEND;TZID=America/New_York:20220418T150000
DTSTAMP:20260423T071831
CREATED:20220330T124714Z
LAST-MODIFIED:20220330T124714Z
UID:28270-1650276000-1650294000@esterotoday.com
SUMMARY:Blood Drive
DESCRIPTION:Southwest Florida is in need of blood donations. The Bloodmobile will be at Lee Health Coconut Point. Call 239-468-0050 to schedule your appointment.
URL:https://esterotoday.com/event/blood-drive-6/
LOCATION:Lee Health Coconut Point
CATEGORIES:Health
END:VEVENT
BEGIN:VEVENT
DTSTART;TZID=America/New_York:20220428T110000
DTEND;TZID=America/New_York:20220428T120000
DTSTAMP:20260423T071831
CREATED:20220330T124812Z
LAST-MODIFIED:20220330T124812Z
UID:28272-1651143600-1651147200@esterotoday.com
SUMMARY:Kick the Sugar Habit
DESCRIPTION:Learn how to reduce your sugar intake and adopt healthier eating habits. Call 239-468-0050 to RSVP. Part of the workplace wellness series – virtual.
URL:https://esterotoday.com/event/kick-the-sugar-habit/
CATEGORIES:Health,Virtual Event
END:VEVENT
END:VCALENDAR