BEGIN:VCALENDAR
VERSION:2.0
PRODID:-//EsteroToday.com by Engage Estero - ECPv6.15.20//NONSGML v1.0//EN
CALSCALE:GREGORIAN
METHOD:PUBLISH
X-ORIGINAL-URL:https://esterotoday.com
X-WR-CALDESC:Events for EsteroToday.com by Engage Estero
REFRESH-INTERVAL;VALUE=DURATION:PT1H
X-Robots-Tag:noindex
X-PUBLISHED-TTL:PT1H
BEGIN:VTIMEZONE
TZID:America/New_York
BEGIN:DAYLIGHT
TZOFFSETFROM:-0500
TZOFFSETTO:-0400
TZNAME:EDT
DTSTART:20210314T070000
END:DAYLIGHT
BEGIN:STANDARD
TZOFFSETFROM:-0400
TZOFFSETTO:-0500
TZNAME:EST
DTSTART:20211107T060000
END:STANDARD
BEGIN:DAYLIGHT
TZOFFSETFROM:-0500
TZOFFSETTO:-0400
TZNAME:EDT
DTSTART:20220313T070000
END:DAYLIGHT
BEGIN:STANDARD
TZOFFSETFROM:-0400
TZOFFSETTO:-0500
TZNAME:EST
DTSTART:20221106T060000
END:STANDARD
BEGIN:DAYLIGHT
TZOFFSETFROM:-0500
TZOFFSETTO:-0400
TZNAME:EDT
DTSTART:20230312T070000
END:DAYLIGHT
BEGIN:STANDARD
TZOFFSETFROM:-0400
TZOFFSETTO:-0500
TZNAME:EST
DTSTART:20231105T060000
END:STANDARD
END:VTIMEZONE
BEGIN:VEVENT
DTSTART;TZID=America/New_York:20220104T120000
DTEND;TZID=America/New_York:20220104T130000
DTSTAMP:20260423T115634
CREATED:20211223T133209Z
LAST-MODIFIED:20211223T133209Z
UID:27535-1641297600-1641301200@esterotoday.com
SUMMARY:Strength\, Balance and Stretch
DESCRIPTION:This free class will help strengthen and tone muscles\, as well as work on balance and flexibility. Suitable for all ages.
URL:https://esterotoday.com/event/strength-balance-and-stretch/
LOCATION:Florida Blue Fort Myers Center\, 8041 Plaza Del Lago Drive\, Estero\, Florida\, 33928
CATEGORIES:Health
END:VEVENT
BEGIN:VEVENT
DTSTART;TZID=America/New_York:20220111T120000
DTEND;TZID=America/New_York:20220111T130000
DTSTAMP:20260423T115634
CREATED:20211223T133249Z
LAST-MODIFIED:20211223T133249Z
UID:27538-1641902400-1641906000@esterotoday.com
SUMMARY:Strength\, Balance and Stretch
DESCRIPTION:This free class will help strengthen and tone muscles\, as well as work on balance and flexibility. Suitable for all ages.
URL:https://esterotoday.com/event/strength-balance-and-stretch-2/
LOCATION:Florida Blue Fort Myers Center\, 8041 Plaza Del Lago Drive\, Estero\, Florida\, 33928
CATEGORIES:Health
END:VEVENT
BEGIN:VEVENT
DTSTART;TZID=America/New_York:20220118T120000
DTEND;TZID=America/New_York:20220118T130000
DTSTAMP:20260423T115634
CREATED:20211223T133302Z
LAST-MODIFIED:20211223T133302Z
UID:27540-1642507200-1642510800@esterotoday.com
SUMMARY:Strength\, Balance and Stretch
DESCRIPTION:This free class will help strengthen and tone muscles\, as well as work on balance and flexibility. Suitable for all ages.
URL:https://esterotoday.com/event/strength-balance-and-stretch-3/
LOCATION:Florida Blue Fort Myers Center\, 8041 Plaza Del Lago Drive\, Estero\, Florida\, 33928
CATEGORIES:Health
END:VEVENT
BEGIN:VEVENT
DTSTART;TZID=America/New_York:20220119T150000
DTEND;TZID=America/New_York:20220119T160000
DTSTAMP:20260423T115634
CREATED:20211222T213840Z
LAST-MODIFIED:20211222T213840Z
UID:27497-1642604400-1642608000@esterotoday.com
SUMMARY:The Pillars of Balance Series
DESCRIPTION:This balance education series will explore the intricate links between sensory\, neurological\, orthopedic and cognitive functions. Virtual program\, to RSVP call 239-468-0050.
URL:https://esterotoday.com/event/the-pillars-of-balance-series/
CATEGORIES:Health
ORGANIZER;CN="Lee Health Coconut Point":MAILTO:healthylifecenter@leehealth.org
END:VEVENT
BEGIN:VEVENT
DTSTART;TZID=America/New_York:20220125T120000
DTEND;TZID=America/New_York:20220125T130000
DTSTAMP:20260423T115634
CREATED:20211223T133324Z
LAST-MODIFIED:20211223T133324Z
UID:27542-1643112000-1643115600@esterotoday.com
SUMMARY:Strength\, Balance and Stretch
DESCRIPTION:This free class will help strengthen and tone muscles\, as well as work on balance and flexibility. Suitable for all ages.
URL:https://esterotoday.com/event/strength-balance-and-stretch-4/
LOCATION:Florida Blue Fort Myers Center\, 8041 Plaza Del Lago Drive\, Estero\, Florida\, 33928
CATEGORIES:Health
END:VEVENT
BEGIN:VEVENT
DTSTART;TZID=America/New_York:20220126T150000
DTEND;TZID=America/New_York:20220126T160000
DTSTAMP:20260423T115634
CREATED:20211222T213855Z
LAST-MODIFIED:20211222T213855Z
UID:27499-1643209200-1643212800@esterotoday.com
SUMMARY:The Pillars of Balance Series
DESCRIPTION:This balance education series will explore the intricate links between sensory\, neurological\, orthopedic and cognitive functions. Virtual program\, to RSVP call 239-468-0050.
URL:https://esterotoday.com/event/the-pillars-of-balance-series-2/
CATEGORIES:Health
ORGANIZER;CN="Lee Health Coconut Point":MAILTO:healthylifecenter@leehealth.org
END:VEVENT
BEGIN:VEVENT
DTSTART;TZID=America/New_York:20220129T090000
DTEND;TZID=America/New_York:20220129T120000
DTSTAMP:20260423T115634
CREATED:20211222T213708Z
LAST-MODIFIED:20220107T164251Z
UID:27495-1643446800-1643457600@esterotoday.com
SUMMARY:Health and Wellness Fair Rescheduled
DESCRIPTION:Due to the rise of COVID-19 cases in our community\, the Estero Park and Recreation Center with Lee County Parks & Recreation and Lee Health has decided to postpone their Estero Health and Wellness Fair\, originally for January 29\, 2022\, until Saturday\, March 26\, 2022.  For more information\, please visit www.leeparks.org or contact Becca Wemer at 239-533-1470.
URL:https://esterotoday.com/event/health-and-wellness-fair/
LOCATION:Estero Park & Recreation Center\, 9200 Corkscrew Palms Blvd\, Estero\, FL\, 33928\, United States
CATEGORIES:Health
ORGANIZER;CN="Lee Health Coconut Point":MAILTO:healthylifecenter@leehealth.org
END:VEVENT
END:VCALENDAR