BEGIN:VCALENDAR
VERSION:2.0
PRODID:-//EsteroToday.com by Engage Estero - ECPv6.15.20//NONSGML v1.0//EN
CALSCALE:GREGORIAN
METHOD:PUBLISH
X-ORIGINAL-URL:https://esterotoday.com
X-WR-CALDESC:Events for EsteroToday.com by Engage Estero
REFRESH-INTERVAL;VALUE=DURATION:PT1H
X-Robots-Tag:noindex
X-PUBLISHED-TTL:PT1H
BEGIN:VTIMEZONE
TZID:America/New_York
BEGIN:DAYLIGHT
TZOFFSETFROM:-0500
TZOFFSETTO:-0400
TZNAME:EDT
DTSTART:20200308T070000
END:DAYLIGHT
BEGIN:STANDARD
TZOFFSETFROM:-0400
TZOFFSETTO:-0500
TZNAME:EST
DTSTART:20201101T060000
END:STANDARD
BEGIN:DAYLIGHT
TZOFFSETFROM:-0500
TZOFFSETTO:-0400
TZNAME:EDT
DTSTART:20210314T070000
END:DAYLIGHT
BEGIN:STANDARD
TZOFFSETFROM:-0400
TZOFFSETTO:-0500
TZNAME:EST
DTSTART:20211107T060000
END:STANDARD
BEGIN:DAYLIGHT
TZOFFSETFROM:-0500
TZOFFSETTO:-0400
TZNAME:EDT
DTSTART:20220313T070000
END:DAYLIGHT
BEGIN:STANDARD
TZOFFSETFROM:-0400
TZOFFSETTO:-0500
TZNAME:EST
DTSTART:20221106T060000
END:STANDARD
END:VTIMEZONE
BEGIN:VEVENT
DTSTART;TZID=America/New_York:20211109T100000
DTEND;TZID=America/New_York:20211109T140000
DTSTAMP:20260423T144127
CREATED:20211013T185838Z
LAST-MODIFIED:20211013T185908Z
UID:27242-1636452000-1636466400@esterotoday.com
SUMMARY:Dementia Friendly Facility Event
DESCRIPTION:Join Lee Health Coconut Point from 10 a.m. – 2 p.m. Tuesday\, Nov. 9\, for an outdoor event celebrating Lee Health Coconut Point’s achievement of becoming a Dementia Friendly Facility. \nDementia Friendly Facility Event\nLee Health Coconut Point\n10 a.m. to 2 p.m. Tuesday\, Nov. 9\n23450 Via Coconut Point\nBonita Springs\, FL 34135\n\n\nNovember is Alzheimer’s Awareness Month so take this opportunity to learn about the training our team has completed and find out about more resources in our community.\n\nCommunity members will be able to visit with experts from:\n•                    Dementia Care Cure & Initiative\n•                    Lee Health Memory Care\n•                    Alzheimer’s Association Brain Bus\n•                    Dubin Center\n•             United Way: ReUnite\n\nOur event will feature multiple food trucks and other vendors! We will follow all COVID-19 precautions (except when eating or drinking) and will monitor crowd capacity throughout the event. The event is subject to change if community-wide COVID-19 transmission rates increase.\n\n 
URL:https://esterotoday.com/event/dementia-friendly-facility-event/
CATEGORIES:Health
END:VEVENT
BEGIN:VEVENT
DTSTART;TZID=America/New_York:20211112T100000
DTEND;TZID=America/New_York:20211112T113000
DTSTAMP:20260423T144127
CREATED:20211105T133831Z
LAST-MODIFIED:20211105T133831Z
UID:27306-1636711200-1636716600@esterotoday.com
SUMMARY:Caring for Caregivers
DESCRIPTION:November is National Caregivers Month! This panel of local community experts and resources will share vital information on preventing burnout and still prioritizing your needs. To RSVP call (239) 468-0050.
URL:https://esterotoday.com/event/caring-for-caregivers/
CATEGORIES:Health
ORGANIZER;CN="Lee Health Coconut Point":MAILTO:healthylifecenter@leehealth.org
END:VEVENT
BEGIN:VEVENT
DTSTART;TZID=America/New_York:20211122T090000
DTEND;TZID=America/New_York:20211122T130000
DTSTAMP:20260423T144127
CREATED:20211105T134544Z
LAST-MODIFIED:20211105T134544Z
UID:27322-1637571600-1637586000@esterotoday.com
SUMMARY:Bloodmobile at Estero Community Park
DESCRIPTION:The bloodmobile will be at the Estero Recreation Center. Save lives\, donate.
URL:https://esterotoday.com/event/bloodmobile-at-estero-community-park/
LOCATION:Estero Park & Recreation Center\, 9200 Corkscrew Palms Blvd\, Estero\, FL\, 33928\, United States
CATEGORIES:Health
END:VEVENT
END:VCALENDAR