BEGIN:VCALENDAR
VERSION:2.0
PRODID:-//EsteroToday.com by Engage Estero - ECPv6.15.20//NONSGML v1.0//EN
CALSCALE:GREGORIAN
METHOD:PUBLISH
X-WR-CALNAME:EsteroToday.com by Engage Estero
X-ORIGINAL-URL:https://esterotoday.com
X-WR-CALDESC:Events for EsteroToday.com by Engage Estero
REFRESH-INTERVAL;VALUE=DURATION:PT1H
X-Robots-Tag:noindex
X-PUBLISHED-TTL:PT1H
BEGIN:VTIMEZONE
TZID:America/New_York
BEGIN:DAYLIGHT
TZOFFSETFROM:-0500
TZOFFSETTO:-0400
TZNAME:EDT
DTSTART:20200308T070000
END:DAYLIGHT
BEGIN:STANDARD
TZOFFSETFROM:-0400
TZOFFSETTO:-0500
TZNAME:EST
DTSTART:20201101T060000
END:STANDARD
BEGIN:DAYLIGHT
TZOFFSETFROM:-0500
TZOFFSETTO:-0400
TZNAME:EDT
DTSTART:20210314T070000
END:DAYLIGHT
BEGIN:STANDARD
TZOFFSETFROM:-0400
TZOFFSETTO:-0500
TZNAME:EST
DTSTART:20211107T060000
END:STANDARD
BEGIN:DAYLIGHT
TZOFFSETFROM:-0500
TZOFFSETTO:-0400
TZNAME:EDT
DTSTART:20220313T070000
END:DAYLIGHT
BEGIN:STANDARD
TZOFFSETFROM:-0400
TZOFFSETTO:-0500
TZNAME:EST
DTSTART:20221106T060000
END:STANDARD
END:VTIMEZONE
BEGIN:VEVENT
DTSTART;TZID=America/New_York:20210412T100000
DTEND;TZID=America/New_York:20210412T150000
DTSTAMP:20260424T014013
CREATED:20210323T173128Z
LAST-MODIFIED:20210323T173128Z
UID:26073-1618221600-1618239600@esterotoday.com
SUMMARY:Blood Drive
DESCRIPTION:Spend a few moments of your time and save the live of another person. Your donation through the Lee Health Blood Center will stay in Lee County and benefit local residents and visitors in need. RSVP to 239-468-0050.
URL:https://esterotoday.com/event/blood-drive-5/
LOCATION:Lee Health Coconut Point
CATEGORIES:Health
END:VEVENT
BEGIN:VEVENT
DTSTART;TZID=America/New_York:20210417T080000
DTEND;TZID=America/New_York:20210417T110000
DTSTAMP:20260424T014013
CREATED:20210325T131928Z
LAST-MODIFIED:20210325T131929Z
UID:26088-1618646400-1618657200@esterotoday.com
SUMMARY:Drive-Through Health Fair
DESCRIPTION:Take part in an interactive\, drive-through health fair at Lee Health Coconut Point. Learn more about heart health\, stroke prevention\, nutrition\, active lifestyle\, COPD/Asthma\, cancer care\, hearing\, vision\, behavioral health and more. RSVP to 239-468-0050. The bloodmobile will be on-site for donations.
URL:https://esterotoday.com/event/drive-through-health-fair/
LOCATION:Lee Health Coconut Point
CATEGORIES:Health
ATTACH;FMTTYPE=image/jpeg:https://esterotoday.com/wp-content/uploads/2021/03/map.jpg
END:VEVENT
END:VCALENDAR