BEGIN:VCALENDAR
VERSION:2.0
PRODID:-//EsteroToday.com by Engage Estero - ECPv6.15.20//NONSGML v1.0//EN
CALSCALE:GREGORIAN
METHOD:PUBLISH
X-ORIGINAL-URL:https://esterotoday.com
X-WR-CALDESC:Events for EsteroToday.com by Engage Estero
REFRESH-INTERVAL;VALUE=DURATION:PT1H
X-Robots-Tag:noindex
X-PUBLISHED-TTL:PT1H
BEGIN:VTIMEZONE
TZID:America/New_York
BEGIN:DAYLIGHT
TZOFFSETFROM:-0500
TZOFFSETTO:-0400
TZNAME:EDT
DTSTART:20190310T070000
END:DAYLIGHT
BEGIN:STANDARD
TZOFFSETFROM:-0400
TZOFFSETTO:-0500
TZNAME:EST
DTSTART:20191103T060000
END:STANDARD
BEGIN:DAYLIGHT
TZOFFSETFROM:-0500
TZOFFSETTO:-0400
TZNAME:EDT
DTSTART:20200308T070000
END:DAYLIGHT
BEGIN:STANDARD
TZOFFSETFROM:-0400
TZOFFSETTO:-0500
TZNAME:EST
DTSTART:20201101T060000
END:STANDARD
BEGIN:DAYLIGHT
TZOFFSETFROM:-0500
TZOFFSETTO:-0400
TZNAME:EDT
DTSTART:20210314T070000
END:DAYLIGHT
BEGIN:STANDARD
TZOFFSETFROM:-0400
TZOFFSETTO:-0500
TZNAME:EST
DTSTART:20211107T060000
END:STANDARD
END:VTIMEZONE
BEGIN:VEVENT
DTSTART;TZID=America/New_York:20200902T130000
DTEND;TZID=America/New_York:20200902T140000
DTSTAMP:20260424T115200
CREATED:20200827T154246Z
LAST-MODIFIED:20200827T154246Z
UID:24130-1599051600-1599055200@esterotoday.com
SUMMARY:Nutrition Awareness for Women
DESCRIPTION:RSVP at 239-468-0050
URL:https://esterotoday.com/event/nutrition-awareness-for-women/
CATEGORIES:Health
END:VEVENT
BEGIN:VEVENT
DTSTART;TZID=America/New_York:20200904T130000
DTEND;TZID=America/New_York:20200904T140000
DTSTAMP:20260424T115200
CREATED:20200827T154650Z
LAST-MODIFIED:20200827T154650Z
UID:24138-1599224400-1599228000@esterotoday.com
SUMMARY:Cranberry Craze
DESCRIPTION:Cooking with Kat series \nRSVP at 239-468-0050
URL:https://esterotoday.com/event/cranberry-craze/
CATEGORIES:Health
END:VEVENT
BEGIN:VEVENT
DTSTART;TZID=America/New_York:20200909T130000
DTEND;TZID=America/New_York:20200909T140000
DTSTAMP:20260424T115200
CREATED:20200827T154358Z
LAST-MODIFIED:20200827T154358Z
UID:24132-1599656400-1599660000@esterotoday.com
SUMMARY:Healthy Lifestyle for Men
DESCRIPTION:RSVP at 239-468-0050
URL:https://esterotoday.com/event/healthy-lifestyle-for-men/
CATEGORIES:Health
END:VEVENT
BEGIN:VEVENT
DTSTART;TZID=America/New_York:20200911T130000
DTEND;TZID=America/New_York:20200911T140000
DTSTAMP:20260424T115200
CREATED:20200827T154748Z
LAST-MODIFIED:20200827T154748Z
UID:24140-1599829200-1599832800@esterotoday.com
SUMMARY:An Apple a Day
DESCRIPTION:Cooking with Kat Series \nRSVP at 239-468-0050
URL:https://esterotoday.com/event/an-apple-a-day/
CATEGORIES:Health
END:VEVENT
BEGIN:VEVENT
DTSTART;TZID=America/New_York:20200916T130000
DTEND;TZID=America/New_York:20200916T140000
DTSTAMP:20260424T115200
CREATED:20200827T154447Z
LAST-MODIFIED:20200827T154447Z
UID:24134-1600261200-1600264800@esterotoday.com
SUMMARY:Fad Diets
DESCRIPTION:RSVP at 239-468-0050
URL:https://esterotoday.com/event/fad-diets/
CATEGORIES:Health
END:VEVENT
BEGIN:VEVENT
DTSTART;TZID=America/New_York:20200918T130000
DTEND;TZID=America/New_York:20200918T140000
DTSTAMP:20260424T115200
CREATED:20200827T154935Z
LAST-MODIFIED:20200827T154935Z
UID:24142-1600434000-1600437600@esterotoday.com
SUMMARY:Spice up your Life
DESCRIPTION:Cooking with Kat Series\nRSVP at 239-468-0050
URL:https://esterotoday.com/event/spice-up-your-life/
CATEGORIES:Health
END:VEVENT
BEGIN:VEVENT
DTSTART;TZID=America/New_York:20200923T130000
DTEND;TZID=America/New_York:20200923T140000
DTSTAMP:20260424T115200
CREATED:20200827T154537Z
LAST-MODIFIED:20200827T154537Z
UID:24136-1600866000-1600869600@esterotoday.com
SUMMARY:The Amazing Liver
DESCRIPTION:RSVP at 239-468-0050
URL:https://esterotoday.com/event/the-amazing-liver/
CATEGORIES:Health
END:VEVENT
BEGIN:VEVENT
DTSTART;TZID=America/New_York:20200925T130000
DTEND;TZID=America/New_York:20200925T140000
DTSTAMP:20260424T115200
CREATED:20200827T155039Z
LAST-MODIFIED:20200827T155039Z
UID:24144-1601038800-1601042400@esterotoday.com
SUMMARY:Vietnamese Summer Rolls
DESCRIPTION:Cooking with Kat Series \nRSVP at 239-468-0050
URL:https://esterotoday.com/event/vietnamese-summer-rolls/
CATEGORIES:Health
END:VEVENT
END:VCALENDAR