BEGIN:VCALENDAR
VERSION:2.0
PRODID:-//EsteroToday.com by Engage Estero - ECPv6.15.20//NONSGML v1.0//EN
CALSCALE:GREGORIAN
METHOD:PUBLISH
X-WR-CALNAME:EsteroToday.com by Engage Estero
X-ORIGINAL-URL:https://esterotoday.com
X-WR-CALDESC:Events for EsteroToday.com by Engage Estero
REFRESH-INTERVAL;VALUE=DURATION:PT1H
X-Robots-Tag:noindex
X-PUBLISHED-TTL:PT1H
BEGIN:VTIMEZONE
TZID:America/New_York
BEGIN:DAYLIGHT
TZOFFSETFROM:-0500
TZOFFSETTO:-0400
TZNAME:EDT
DTSTART:20250309T070000
END:DAYLIGHT
BEGIN:STANDARD
TZOFFSETFROM:-0400
TZOFFSETTO:-0500
TZNAME:EST
DTSTART:20251102T060000
END:STANDARD
BEGIN:DAYLIGHT
TZOFFSETFROM:-0500
TZOFFSETTO:-0400
TZNAME:EDT
DTSTART:20260308T070000
END:DAYLIGHT
BEGIN:STANDARD
TZOFFSETFROM:-0400
TZOFFSETTO:-0500
TZNAME:EST
DTSTART:20261101T060000
END:STANDARD
BEGIN:DAYLIGHT
TZOFFSETFROM:-0500
TZOFFSETTO:-0400
TZNAME:EDT
DTSTART:20270314T070000
END:DAYLIGHT
BEGIN:STANDARD
TZOFFSETFROM:-0400
TZOFFSETTO:-0500
TZNAME:EST
DTSTART:20271107T060000
END:STANDARD
END:VTIMEZONE
BEGIN:VEVENT
DTSTART;TZID=America/New_York:20260321T130000
DTEND;TZID=America/New_York:20260321T200000
DTSTAMP:20260421T012329
CREATED:20260102T160622Z
LAST-MODIFIED:20260102T165038Z
UID:44589-1774098000-1774123200@esterotoday.com
SUMMARY:Estero Fest 2026
DESCRIPTION:The Greater Estero Chamber of Commerce is proud to announce the return of EsteroFest for a full day of free family fun\, live music\, and community activities. Enjoy performances by The Incorrigibles\, Swamp Blues Band\, and headliner Ben Allen Band. Kids can explore a dedicated Kids Zone with a bounce house\, character appearances\, face painting\, and more. The festival also features food trucks\, desserts\, a beer garden\, interactive displays from Estero Fire Rescue and Lee County Sheriff’s Office\, and a Business Expo showcasing local organizations and businesses. \nHighlights:\n• Live concert featuring the Ben Allen Band\n• Kids Zone with activities and entertainment 1-5 pm\n• Food trucks and beer garden\n• Public safety demonstrations\n• Business Expo from 1–5 p.m.\n• VIP ticket options available \nCost: Free general admission\nMore Information: http://EsteroFest.org\nContact: Greater Estero Chamber of Commerce | 239-390-1137 | info@esterochamber.org \nMade Possible By: The Greater Estero Chamber of Commerce is grateful to our Title Sponsor – J. Pavich Real Estate and Media Sponsor Platinum Media. \nThere are plenty of sponsorships available – visit the website at EsteroFest.org for more information.
URL:https://esterotoday.com/event/estero-fest-2026/
LOCATION:Estero Park and Recreation Center\, 9200 Corkscrew Palms Blvd\, Estero\, FL\, United States
CATEGORIES:Community,Musical Festival
END:VEVENT
END:VCALENDAR