BEGIN:VCALENDAR
VERSION:2.0
PRODID:-//EsteroToday.com by Engage Estero - ECPv6.15.20//NONSGML v1.0//EN
CALSCALE:GREGORIAN
METHOD:PUBLISH
X-WR-CALNAME:EsteroToday.com by Engage Estero
X-ORIGINAL-URL:https://esterotoday.com
X-WR-CALDESC:Events for EsteroToday.com by Engage Estero
REFRESH-INTERVAL;VALUE=DURATION:PT1H
X-Robots-Tag:noindex
X-PUBLISHED-TTL:PT1H
BEGIN:VTIMEZONE
TZID:America/New_York
BEGIN:DAYLIGHT
TZOFFSETFROM:-0500
TZOFFSETTO:-0400
TZNAME:EDT
DTSTART:20250309T070000
END:DAYLIGHT
BEGIN:STANDARD
TZOFFSETFROM:-0400
TZOFFSETTO:-0500
TZNAME:EST
DTSTART:20251102T060000
END:STANDARD
BEGIN:DAYLIGHT
TZOFFSETFROM:-0500
TZOFFSETTO:-0400
TZNAME:EDT
DTSTART:20260308T070000
END:DAYLIGHT
BEGIN:STANDARD
TZOFFSETFROM:-0400
TZOFFSETTO:-0500
TZNAME:EST
DTSTART:20261101T060000
END:STANDARD
BEGIN:DAYLIGHT
TZOFFSETFROM:-0500
TZOFFSETTO:-0400
TZNAME:EDT
DTSTART:20270314T070000
END:DAYLIGHT
BEGIN:STANDARD
TZOFFSETFROM:-0400
TZOFFSETTO:-0500
TZNAME:EST
DTSTART:20271107T060000
END:STANDARD
END:VTIMEZONE
BEGIN:VEVENT
DTSTART;TZID=America/New_York:20260124T180000
DTEND;TZID=America/New_York:20260124T193000
DTSTAMP:20260421T041803
CREATED:20251230T162930Z
LAST-MODIFIED:20251230T162930Z
UID:44542-1769277600-1769283000@esterotoday.com
SUMMARY:Bunco Fundraiser for Estero Historical Society
DESCRIPTION:Have fun and raise funds for the Estero Historical Society at our Bunco Fundraiser on Saturday\, Jan. 24th. The dice start rolling at 6:00 pm at the Villages at Country Creek Clubhouse\, located at 21180 Country Creek Drive\, Estero. \nBunco is easy to learn\, fun to play\, and a great way to meet new friends and support a good cause at the same time. \nPrizes awarded for: \n\nMost Buncos\nMost Funko Buncos\nMost Wins\nMost Losses\nTraveler Prize (held at the end of the game!)\n\nTickets are just $20 and can be purchased online at: https://esterohistoricalsociety.com/event/bunco-fundraiser/ \nThe Estero Historical Society is a 501(c)3 organization dedicated to preserving and sharing the history of our unique greater Estero area\, and depends on volunteers and donations for projects such as the relocation and restoration of the Alvarez/Smith Home. Find out more about us at www.EsteroHistoricalSociety.com
URL:https://esterotoday.com/event/bunco-fundraiser-for-estero-historical-society/
LOCATION:Villages at Country Creek 21180 Country Creek Drive Estero\, FL
CATEGORIES:Community
END:VEVENT
END:VCALENDAR