BEGIN:VCALENDAR
VERSION:2.0
PRODID:-//EsteroToday.com by Engage Estero - ECPv6.15.20//NONSGML v1.0//EN
CALSCALE:GREGORIAN
METHOD:PUBLISH
X-WR-CALNAME:EsteroToday.com by Engage Estero
X-ORIGINAL-URL:https://esterotoday.com
X-WR-CALDESC:Events for EsteroToday.com by Engage Estero
REFRESH-INTERVAL;VALUE=DURATION:PT1H
X-Robots-Tag:noindex
X-PUBLISHED-TTL:PT1H
BEGIN:VTIMEZONE
TZID:America/New_York
BEGIN:DAYLIGHT
TZOFFSETFROM:-0500
TZOFFSETTO:-0400
TZNAME:EDT
DTSTART:20240310T070000
END:DAYLIGHT
BEGIN:STANDARD
TZOFFSETFROM:-0400
TZOFFSETTO:-0500
TZNAME:EST
DTSTART:20241103T060000
END:STANDARD
BEGIN:DAYLIGHT
TZOFFSETFROM:-0500
TZOFFSETTO:-0400
TZNAME:EDT
DTSTART:20250309T070000
END:DAYLIGHT
BEGIN:STANDARD
TZOFFSETFROM:-0400
TZOFFSETTO:-0500
TZNAME:EST
DTSTART:20251102T060000
END:STANDARD
BEGIN:DAYLIGHT
TZOFFSETFROM:-0500
TZOFFSETTO:-0400
TZNAME:EDT
DTSTART:20260308T070000
END:DAYLIGHT
BEGIN:STANDARD
TZOFFSETFROM:-0400
TZOFFSETTO:-0500
TZNAME:EST
DTSTART:20261101T060000
END:STANDARD
END:VTIMEZONE
BEGIN:VEVENT
DTSTART;TZID=America/New_York:20251206T110000
DTEND;TZID=America/New_York:20251206T190000
DTSTAMP:20260421T054125
CREATED:20251128T204751Z
LAST-MODIFIED:20251128T204911Z
UID:44203-1765018800-1765047600@esterotoday.com
SUMMARY:Toy Match Toy Drive
DESCRIPTION:2ND ANNUAL TOY MATCH TOY DRIVE\nJoin Brittany Skotak & The Skotak Group as a sponsor of the Toy Match Toy Drive in Estero at Coconut Point Mall at Toy World on Saturday\, December 6\, 2025. \nSanta himself making a special appearance to greet families\, take photos\, we will match any new toy donated with another new toy creating a ripple effect of generosity that will benefit even more families this holiday season.
URL:https://esterotoday.com/event/toy-match-toy-drive/
LOCATION:Coconut Point Mall
CATEGORIES:Community
END:VEVENT
END:VCALENDAR