BEGIN:VCALENDAR
VERSION:2.0
PRODID:-//EsteroToday.com by Engage Estero - ECPv6.15.20//NONSGML v1.0//EN
CALSCALE:GREGORIAN
METHOD:PUBLISH
X-ORIGINAL-URL:https://esterotoday.com
X-WR-CALDESC:Events for EsteroToday.com by Engage Estero
REFRESH-INTERVAL;VALUE=DURATION:PT1H
X-Robots-Tag:noindex
X-PUBLISHED-TTL:PT1H
BEGIN:VTIMEZONE
TZID:America/New_York
BEGIN:DAYLIGHT
TZOFFSETFROM:-0500
TZOFFSETTO:-0400
TZNAME:EDT
DTSTART:20240310T070000
END:DAYLIGHT
BEGIN:STANDARD
TZOFFSETFROM:-0400
TZOFFSETTO:-0500
TZNAME:EST
DTSTART:20241103T060000
END:STANDARD
BEGIN:DAYLIGHT
TZOFFSETFROM:-0500
TZOFFSETTO:-0400
TZNAME:EDT
DTSTART:20250309T070000
END:DAYLIGHT
BEGIN:STANDARD
TZOFFSETFROM:-0400
TZOFFSETTO:-0500
TZNAME:EST
DTSTART:20251102T060000
END:STANDARD
BEGIN:DAYLIGHT
TZOFFSETFROM:-0500
TZOFFSETTO:-0400
TZNAME:EDT
DTSTART:20260308T070000
END:DAYLIGHT
BEGIN:STANDARD
TZOFFSETFROM:-0400
TZOFFSETTO:-0500
TZNAME:EST
DTSTART:20261101T060000
END:STANDARD
END:VTIMEZONE
BEGIN:VEVENT
DTSTART;TZID=America/New_York:20250821T173000
DTEND;TZID=America/New_York:20250821T190000
DTSTAMP:20260421T112511
CREATED:20250722T174218Z
LAST-MODIFIED:20250722T174218Z
UID:42571-1755797400-1755802800@esterotoday.com
SUMMARY:Alive After Five! at Hertz Arena
DESCRIPTION:Network with local business professionals\, tour the incredible Hertz hospitality facilities\, and enjoy tasty appetizers in the Hertz #1 Club at Alive After Five! at Hertz Arena on Thursday\, August 21.\n\nRegister now to enjoy:\n\n\n Free appetizers and a beverage upon arrival\n2 Free tickets to a Florida Everblades 2025 Preseason Game\nTours of the facility\, including party areas\, suites – even the luxury suite and party suite.\nChance to win premium seats to an upcoming Everblades home game!\n\n\n \nAlive After Five starts at 5:30 pm and runs ‘til 7:00 pm. Hertz Arena is located at 11000 Everblades Parkway\, Estero\, FL 33928. Please enter through the doors located on the east side of Hertz Arena – by the Breakaway Sports Pub and the Pro Shop.\n\nTickets are $20 for Members and just $30 for Non-Members. Get yours online at https://esterochamber.org/\n\n\nSo bring your holiday party questions\, a friend\, and enjoy a stellar night in the Hertz #1 Club.
URL:https://esterotoday.com/event/alive-after-five-at-hertz-arena/
LOCATION:Hertz Arena\, 11000 Everblades Parkway\, Estero\, Florida\, 33928
CATEGORIES:Community
END:VEVENT
END:VCALENDAR