BEGIN:VCALENDAR
VERSION:2.0
PRODID:-//EsteroToday.com by Engage Estero - ECPv6.15.20//NONSGML v1.0//EN
CALSCALE:GREGORIAN
METHOD:PUBLISH
X-ORIGINAL-URL:https://esterotoday.com
X-WR-CALDESC:Events for EsteroToday.com by Engage Estero
REFRESH-INTERVAL;VALUE=DURATION:PT1H
X-Robots-Tag:noindex
X-PUBLISHED-TTL:PT1H
BEGIN:VTIMEZONE
TZID:America/New_York
BEGIN:DAYLIGHT
TZOFFSETFROM:-0500
TZOFFSETTO:-0400
TZNAME:EDT
DTSTART:20240310T070000
END:DAYLIGHT
BEGIN:STANDARD
TZOFFSETFROM:-0400
TZOFFSETTO:-0500
TZNAME:EST
DTSTART:20241103T060000
END:STANDARD
BEGIN:DAYLIGHT
TZOFFSETFROM:-0500
TZOFFSETTO:-0400
TZNAME:EDT
DTSTART:20250309T070000
END:DAYLIGHT
BEGIN:STANDARD
TZOFFSETFROM:-0400
TZOFFSETTO:-0500
TZNAME:EST
DTSTART:20251102T060000
END:STANDARD
BEGIN:DAYLIGHT
TZOFFSETFROM:-0500
TZOFFSETTO:-0400
TZNAME:EDT
DTSTART:20260308T070000
END:DAYLIGHT
BEGIN:STANDARD
TZOFFSETFROM:-0400
TZOFFSETTO:-0500
TZNAME:EST
DTSTART:20261101T060000
END:STANDARD
END:VTIMEZONE
BEGIN:VEVENT
DTSTART;TZID=America/New_York:20250704T090000
DTEND;TZID=America/New_York:20250704T103000
DTSTAMP:20260421T130353
CREATED:20250606T151823Z
LAST-MODIFIED:20250606T154502Z
UID:42136-1751619600-1751625000@esterotoday.com
SUMMARY:4th of July Celebration featuring Reading of the Declaration of Independence
DESCRIPTION:Join the Estero Historical Society for a special 4th of July celebration at the Estero Historical Society Cottage Museum! Step back in time as Jacob Winge\, in full period costume\, delivers a dramatic reading of the Declaration of Independence 📜. The decades-long traditional celebration is a cornerstone community event!\n\n🎉 Highlights include:\n🍉 Fresh watermelon slices\n🚒 A patriotic fire truck display with a huge American flag\n🎁 Fun giveaways from our generous sponsor Edison Eye\n\n📍 Where: Estero Historical Society Cottage Museum\n🗓️ When: Friday\, July 4\, 2025\n⏰ Time: 9:00 AM – 10:30 AM\n💵 Admission: FREE!\n\nBring your family\, your patriotism\, and your camera—this is a morning you won’t want to miss! 📸❤️🤍💙 For more information\, visit https://esterohistoricalsociety.com\n\nThe Estero Historical Society is a 501(c)3 organization.\n\n#EsteroHistory #4thofJuly #IndependenceDay #EsteroEvents #FamilyFun #HistoricCelebration #EdisonEye #FireTruckFun #WatermelonAndHistory #DeclarationOfIndependence
URL:https://esterotoday.com/event/4th-of-july-celebration-featuring-reading-of-the-declaration-of-independence/
LOCATION:Estero Park & Recreation Center\, 9200 Corkscrew Palms Blvd\, Estero\, FL\, 33928\, United States
CATEGORIES:Community
ATTACH;FMTTYPE=image/jpeg:https://esterotoday.com/wp-content/uploads/2025/06/July-4th.jpg
END:VEVENT
END:VCALENDAR