BEGIN:VCALENDAR
VERSION:2.0
PRODID:-//EsteroToday.com by Engage Estero - ECPv6.15.20//NONSGML v1.0//EN
CALSCALE:GREGORIAN
METHOD:PUBLISH
X-WR-CALNAME:EsteroToday.com by Engage Estero
X-ORIGINAL-URL:https://esterotoday.com
X-WR-CALDESC:Events for EsteroToday.com by Engage Estero
REFRESH-INTERVAL;VALUE=DURATION:PT1H
X-Robots-Tag:noindex
X-PUBLISHED-TTL:PT1H
BEGIN:VTIMEZONE
TZID:America/New_York
BEGIN:DAYLIGHT
TZOFFSETFROM:-0500
TZOFFSETTO:-0400
TZNAME:EDT
DTSTART:20240310T070000
END:DAYLIGHT
BEGIN:STANDARD
TZOFFSETFROM:-0400
TZOFFSETTO:-0500
TZNAME:EST
DTSTART:20241103T060000
END:STANDARD
BEGIN:DAYLIGHT
TZOFFSETFROM:-0500
TZOFFSETTO:-0400
TZNAME:EDT
DTSTART:20250309T070000
END:DAYLIGHT
BEGIN:STANDARD
TZOFFSETFROM:-0400
TZOFFSETTO:-0500
TZNAME:EST
DTSTART:20251102T060000
END:STANDARD
BEGIN:DAYLIGHT
TZOFFSETFROM:-0500
TZOFFSETTO:-0400
TZNAME:EDT
DTSTART:20260308T070000
END:DAYLIGHT
BEGIN:STANDARD
TZOFFSETFROM:-0400
TZOFFSETTO:-0500
TZNAME:EST
DTSTART:20261101T060000
END:STANDARD
END:VTIMEZONE
BEGIN:VEVENT
DTSTART;TZID=America/New_York:20250628T120000
DTEND;TZID=America/New_York:20250629T120000
DTSTAMP:20260421T130301
CREATED:20250530T124436Z
LAST-MODIFIED:20250530T124436Z
UID:42028-1751112000-1751198400@esterotoday.com
SUMMARY:Ham Radio Field Day
DESCRIPTION:“Power Out? Cell Towers Down? Meet the Heroes of Emergency Communication!”\nHam Radio Operators Deploy to North Fort Myers \nMay 27\, 2025 – Fort Myers\, Fl – When traditional communication fails\, amateur radio becomes a vital lifeline in post-disaster recovery. The Amateur Radio Emergency Service (ARES) is a volunteer group of licensed ham radio operators who offer their skills and equipment during emergencies. Often serving as a backup communication system when conventional networks are down\, ARES plays a crucial role in disaster response. In the U.S. and Canada\, ARES is organized by the American Radio Relay League (ARRL)\, the national association for amateur radio. \nTo stay prepared\, operators participate in regular drills—one of the most prominent being ARRL  Field Day\, held annually on the fourth full weekend in June. This event serves as both a nationwide emergency preparedness exercise and a public outreach opportunity. \nLocally\, the Fort Myers Amateur Radio Club (FMARC) will host Field Day beginning at noon on June 28 until noon on the 29th at the North Fort Myers Community Park\, 2000 Recreation Park Way\, North Fort Myers. The event runs 24 hours and demonstrates how amateur radio can function under emergency-like conditions. \nDuring Field Day\, operators set up temporary stations outdoors to simulate post-disaster environments. Key activities include: \n·         Emergency Power Use: Radios are powered by generators\, batteries\, or solar panels to simulate operations during power outages. \n·         Deployable Antennas: Operators erect portable antennas to adapt to changing conditions and available frequencies. \n·         Making Contacts: Participants aim to contact as many other stations as possible\, earning points for using alternative power sources\, operating outdoors\, and incorporating modern technology. \n·         Public Education: Visitors can observe operations\, ask questions\, and even get on the air under the guidance of a licensed operator. \nSponsored by the ARRL\, Field Day combines critical skill-building with public engagement\, highlighting the resilience and resourcefulness of amateur radio.
URL:https://esterotoday.com/event/ham-radio-field-day/
LOCATION:North Fort Myers Community Park\, 2000 Recreation Park Way\, North Fort Myers
CATEGORIES:Community
END:VEVENT
END:VCALENDAR