BEGIN:VCALENDAR
VERSION:2.0
PRODID:-//EsteroToday.com by Engage Estero - ECPv6.15.20//NONSGML v1.0//EN
CALSCALE:GREGORIAN
METHOD:PUBLISH
X-WR-CALNAME:EsteroToday.com by Engage Estero
X-ORIGINAL-URL:https://esterotoday.com
X-WR-CALDESC:Events for EsteroToday.com by Engage Estero
REFRESH-INTERVAL;VALUE=DURATION:PT1H
X-Robots-Tag:noindex
X-PUBLISHED-TTL:PT1H
BEGIN:VTIMEZONE
TZID:America/New_York
BEGIN:DAYLIGHT
TZOFFSETFROM:-0500
TZOFFSETTO:-0400
TZNAME:EDT
DTSTART:20250309T070000
END:DAYLIGHT
BEGIN:STANDARD
TZOFFSETFROM:-0400
TZOFFSETTO:-0500
TZNAME:EST
DTSTART:20251102T060000
END:STANDARD
BEGIN:DAYLIGHT
TZOFFSETFROM:-0500
TZOFFSETTO:-0400
TZNAME:EDT
DTSTART:20260308T070000
END:DAYLIGHT
BEGIN:STANDARD
TZOFFSETFROM:-0400
TZOFFSETTO:-0500
TZNAME:EST
DTSTART:20261101T060000
END:STANDARD
BEGIN:DAYLIGHT
TZOFFSETFROM:-0500
TZOFFSETTO:-0400
TZNAME:EDT
DTSTART:20270314T070000
END:DAYLIGHT
BEGIN:STANDARD
TZOFFSETFROM:-0400
TZOFFSETTO:-0500
TZNAME:EST
DTSTART:20271107T060000
END:STANDARD
END:VTIMEZONE
BEGIN:VEVENT
DTSTART;TZID=America/New_York:20260321T130000
DTEND;TZID=America/New_York:20260321T200000
DTSTAMP:20260420T235733
CREATED:20260102T160622Z
LAST-MODIFIED:20260102T165038Z
UID:44589-1774098000-1774123200@esterotoday.com
SUMMARY:Estero Fest 2026
DESCRIPTION:The Greater Estero Chamber of Commerce is proud to announce the return of EsteroFest for a full day of free family fun\, live music\, and community activities. Enjoy performances by The Incorrigibles\, Swamp Blues Band\, and headliner Ben Allen Band. Kids can explore a dedicated Kids Zone with a bounce house\, character appearances\, face painting\, and more. The festival also features food trucks\, desserts\, a beer garden\, interactive displays from Estero Fire Rescue and Lee County Sheriff’s Office\, and a Business Expo showcasing local organizations and businesses. \nHighlights:\n• Live concert featuring the Ben Allen Band\n• Kids Zone with activities and entertainment 1-5 pm\n• Food trucks and beer garden\n• Public safety demonstrations\n• Business Expo from 1–5 p.m.\n• VIP ticket options available \nCost: Free general admission\nMore Information: http://EsteroFest.org\nContact: Greater Estero Chamber of Commerce | 239-390-1137 | info@esterochamber.org \nMade Possible By: The Greater Estero Chamber of Commerce is grateful to our Title Sponsor – J. Pavich Real Estate and Media Sponsor Platinum Media. \nThere are plenty of sponsorships available – visit the website at EsteroFest.org for more information.
URL:https://esterotoday.com/event/estero-fest-2026/
LOCATION:Estero Park and Recreation Center\, 9200 Corkscrew Palms Blvd\, Estero\, FL\, United States
CATEGORIES:Community,Musical Festival
END:VEVENT
BEGIN:VEVENT
DTSTART;TZID=America/New_York:20260322T173000
DTEND;TZID=America/New_York:20260322T200000
DTSTAMP:20260420T235733
CREATED:20260202T144741Z
LAST-MODIFIED:20260202T144741Z
UID:44897-1774200600-1774209600@esterotoday.com
SUMMARY:14th Annual Breaking Par for Education: Luau Gala
DESCRIPTION:Engage Estero is proud to be a sponsor of the 14th Annual Breaking Par for Education fundraiser being held March 21st and 22nd at The Club at Grandezza. \n			\n			\n				\n				\n				\n				\n			\n				\n				\n				\n				\n				\n				\n				\n				\n				\n				\n				The experience starts on Saturday\, March 21 at 8:30 AM with the Breaking Par Shotgun Golf Scramble tournament celebrating the 250th anniversary of our nation’s independence. Wear your red\, white and blue and celebrate the semi-quincentennial on the greens of Grandezza with lots of fun games\, followed by lunch celebrating the tournament winners. \n			\n			\n				\n				\n				\n				\n				\n				\n				\n				\n				\n				On Sunday\, March 22\, enjoy a luau theme as we celebrate Guest of Honor Jim Shields at the Breaking Par Gala. Jim founded Breaking Par for Education 14 years ago and his impactful commitment to Estero is much admired. Join us in celebrating all he has accomplished with this great organization. Happy hour starts at 5:30 where you can enjoy a tropical paradise hosted by the students of LEAD Estero. \n			\n			\n				\n				\n				\n				\n			\n				\n				\n				\n				\n				\n				\n				Tickets\n			\n			\n				\n				\n				\n				\n				\n				Tickets\n			\n			\n				\n				\n				\n				\n			\n				\n				\n				\n				\n				\n				\n				\n				\n				\n				\n				\n			\n			\n				\n				\n				\n				\n				\n				\n				\n				\n				\n				\n			\n			\n				\n				\n				\n				\n			\n				\n				\n				\n				\n				\n				\n				\n				\n				\n				\n				Tickets for both the tournament and the Gala can be purchased online at https://leadestero.ejoineme.org/BreakingPar26. \nLEAD Estero is a local nonprofit by and for students. This fundraiser helps secure scholarships and training opportunities for Estero High School students. \nThe Club at Grandezza is located at 11481 Grande Oak Blvd\, Estero\, FL 33928.
URL:https://esterotoday.com/event/14th-annual-breaking-par-for-education-luau-gala/
LOCATION:The Club at Grandezza\, Estero\, FL\, 33928
CATEGORIES:Community,Education,Engage Estero Event
ATTACH;FMTTYPE=image/png:https://esterotoday.com/wp-content/uploads/2026/02/breaking-par-thumb.png
ORGANIZER;CN="Lead Estero":MAILTO:Donate@LEADestero.com
END:VEVENT
BEGIN:VEVENT
DTSTART;TZID=America/New_York:20260328T133000
DTEND;TZID=America/New_York:20260328T143000
DTSTAMP:20260420T235733
CREATED:20251201T185204Z
LAST-MODIFIED:20251201T185204Z
UID:44185-1774704600-1774708200@esterotoday.com
SUMMARY:Estero Fire Department: Conversation at the Cottage
DESCRIPTION:Join the Estero Historical Society for an informative and cozy Conversation at the Cottage: Estero Fire Department on Saturday\, March 28 at 1:30 pm. \nLearn about our local history while surrounded by our own historic cottage\, schoolhouse and exhibits. The Cottage is located within the Estero Park and Recreation Center\, at 9200 Corkscrew Palms Blvd\, Estero\, Florida 33928. \nTickets are free for members\, and just $15 for non-members. Space is limited\, so reservations are required. \nThe Estero Historical Society is a 501(c)3 organization dedicated to preserving and sharing the history of our unique greater Estero area\, and depends on volunteers and donations for projects such as the relocation and restoration of the Alvarez/Smith Home. Find out more about us at www.EsteroHistoricalSociety.com
URL:https://esterotoday.com/event/estero-fire-department-conversation-at-the-cottage/
LOCATION:Estero Historical Society Cottage Museum
CATEGORIES:Community
ATTACH;FMTTYPE=image/jpeg:https://esterotoday.com/wp-content/uploads/2025/11/mar-2026-conversations-at-the-cottage.jpg
END:VEVENT
END:VCALENDAR