BEGIN:VCALENDAR
VERSION:2.0
PRODID:-//EsteroToday.com by Engage Estero - ECPv6.15.20//NONSGML v1.0//EN
CALSCALE:GREGORIAN
METHOD:PUBLISH
X-WR-CALNAME:EsteroToday.com by Engage Estero
X-ORIGINAL-URL:https://esterotoday.com
X-WR-CALDESC:Events for EsteroToday.com by Engage Estero
REFRESH-INTERVAL;VALUE=DURATION:PT1H
X-Robots-Tag:noindex
X-PUBLISHED-TTL:PT1H
BEGIN:VTIMEZONE
TZID:America/New_York
BEGIN:DAYLIGHT
TZOFFSETFROM:-0500
TZOFFSETTO:-0400
TZNAME:EDT
DTSTART:20250309T070000
END:DAYLIGHT
BEGIN:STANDARD
TZOFFSETFROM:-0400
TZOFFSETTO:-0500
TZNAME:EST
DTSTART:20251102T060000
END:STANDARD
BEGIN:DAYLIGHT
TZOFFSETFROM:-0500
TZOFFSETTO:-0400
TZNAME:EDT
DTSTART:20260308T070000
END:DAYLIGHT
BEGIN:STANDARD
TZOFFSETFROM:-0400
TZOFFSETTO:-0500
TZNAME:EST
DTSTART:20261101T060000
END:STANDARD
BEGIN:DAYLIGHT
TZOFFSETFROM:-0500
TZOFFSETTO:-0400
TZNAME:EDT
DTSTART:20270314T070000
END:DAYLIGHT
BEGIN:STANDARD
TZOFFSETFROM:-0400
TZOFFSETTO:-0500
TZNAME:EST
DTSTART:20271107T060000
END:STANDARD
END:VTIMEZONE
BEGIN:VEVENT
DTSTART;TZID=America/New_York:20260202T180000
DTEND;TZID=America/New_York:20260202T200000
DTSTAMP:20260421T012839
CREATED:20260128T184038Z
LAST-MODIFIED:20260128T184038Z
UID:44769-1770055200-1770062400@esterotoday.com
SUMMARY:A Night of Hope to benefit the Eden House
DESCRIPTION:Chris Anthony\ncanthony@firstnaples.org \n02/02/2026 6PM\nGrey Oaks County Club\n250\nhttps://www.edenhouse.org/event/gala/\nEden House\nhttps://www.edenhouse.org/
URL:https://esterotoday.com/event/a-night-of-hope-to-benefit-the-eden-house/
LOCATION:Grey Oaks Country Club
CATEGORIES:Community
END:VEVENT
BEGIN:VEVENT
DTSTART;TZID=America/New_York:20260212T173000
DTEND;TZID=America/New_York:20260212T190000
DTSTAMP:20260421T012839
CREATED:20251224T190553Z
LAST-MODIFIED:20251224T190553Z
UID:44514-1770917400-1770922800@esterotoday.com
SUMMARY:Alive After Five at FineMark Bank
DESCRIPTION:Enjoy great conversation\, and meet new peers at Alive After Five! at FineMark Bank on Thursday\, February 12\, 2026. From 5:30 – 7:00 pm! Mix and mingle with your colleagues in the greater Estero business community. You might even win one of our gift card or cash giveaways! \nFineMark Bank is conveniently located at 10010 Coconut Road in Estero. Don’t miss this fantastic opportunity to build relationships\, share ideas\, and meet local business leaders in a fun\, casual setting. Tickets are $20 for Members and just $30 for Non-Members. Get yours online at https://esterochamber.org. \nThe Greater Estero Chamber of Commerce invites members and non-members alike to meet\, grow and work together to move your business forward in the New Year! We believe in the power of connection. Take advantage of this chance to grow your circle.
URL:https://esterotoday.com/event/alive-after-five-at-finemark-bank/
LOCATION:FineMark Bank\, 10010 Coconut Rd\, Estero
CATEGORIES:Business,Community
END:VEVENT
BEGIN:VEVENT
DTSTART;TZID=America/New_York:20260217T083000
DTEND;TZID=America/New_York:20260217T130000
DTSTAMP:20260421T012839
CREATED:20260212T190702Z
LAST-MODIFIED:20260212T190720Z
UID:45068-1771317000-1771333200@esterotoday.com
SUMMARY:WINK News Listens
DESCRIPTION:WINK News is offering the public a chance to talk with a reporter one-on-one about Estero. What’s great? What needs work? They will be at the Estero Park and Recreation Center on Tuesday\, February 17 from 8:30am-1pm. This is a great opportunity to Get Engaged\, Estero!
URL:https://esterotoday.com/event/45068/
LOCATION:Estero Park & Recreation Center\, 9200 Corkscrew Palms Blvd\, Estero\, FL\, 33928\, United States
CATEGORIES:Community
END:VEVENT
END:VCALENDAR