BEGIN:VCALENDAR
VERSION:2.0
PRODID:-//EsteroToday.com by Engage Estero - ECPv6.15.20//NONSGML v1.0//EN
CALSCALE:GREGORIAN
METHOD:PUBLISH
X-WR-CALNAME:EsteroToday.com by Engage Estero
X-ORIGINAL-URL:https://esterotoday.com
X-WR-CALDESC:Events for EsteroToday.com by Engage Estero
REFRESH-INTERVAL;VALUE=DURATION:PT1H
X-Robots-Tag:noindex
X-PUBLISHED-TTL:PT1H
BEGIN:VTIMEZONE
TZID:America/New_York
BEGIN:DAYLIGHT
TZOFFSETFROM:-0500
TZOFFSETTO:-0400
TZNAME:EDT
DTSTART:20240310T070000
END:DAYLIGHT
BEGIN:STANDARD
TZOFFSETFROM:-0400
TZOFFSETTO:-0500
TZNAME:EST
DTSTART:20241103T060000
END:STANDARD
BEGIN:DAYLIGHT
TZOFFSETFROM:-0500
TZOFFSETTO:-0400
TZNAME:EDT
DTSTART:20250309T070000
END:DAYLIGHT
BEGIN:STANDARD
TZOFFSETFROM:-0400
TZOFFSETTO:-0500
TZNAME:EST
DTSTART:20251102T060000
END:STANDARD
BEGIN:DAYLIGHT
TZOFFSETFROM:-0500
TZOFFSETTO:-0400
TZNAME:EDT
DTSTART:20260308T070000
END:DAYLIGHT
BEGIN:STANDARD
TZOFFSETFROM:-0400
TZOFFSETTO:-0500
TZNAME:EST
DTSTART:20261101T060000
END:STANDARD
END:VTIMEZONE
BEGIN:VEVENT
DTSTART;TZID=America/New_York:20251105T113000
DTEND;TZID=America/New_York:20251105T130000
DTSTAMP:20260421T053957
CREATED:20250722T174533Z
LAST-MODIFIED:20250722T174533Z
UID:42575-1762342200-1762347600@esterotoday.com
SUMMARY:Food for Thought Featuring Dr. Shannon MacDonald
DESCRIPTION:Join Us for the November Food for Thought Luncheon!\nThe Greater Estero Chamber of Commerce is proud to host Dr. Shannon MacDonald\, Medical Director of SWFL Proton. As the overseer of clinical operations\, patient services and strategic planning\, Dr. MacDonald is uniquely able to explain how this new service in cancer treatment opening in December will increase the level of care and improved outcomes for cancer patients\, locally and from around the entire region.\n \nWednesday\, November 5\n11:30 AM – 1:00 PM\nEmbassy Suites Estero\n10450 Corkscrew Commons Dr\, Estero\, FL 33928\n\nEnjoy a buffet lunch courtesy of the talented chefs at Embassy Suites\, and connect with fellow business and community leaders in a relaxed setting.\n \nTickets:\n$30 for Chamber members\n$40 for non-members\nGet your tickets here: https://business.esterochamber.org/events/
URL:https://esterotoday.com/event/food-for-thought-featuring-dr-shannon-macdonald/
LOCATION:Embassy Suites Estero
CATEGORIES:Community
END:VEVENT
BEGIN:VEVENT
DTSTART;TZID=America/New_York:20251108T100000
DTEND;TZID=America/New_York:20251108T120000
DTSTAMP:20260421T053957
CREATED:20251003T122406Z
LAST-MODIFIED:20251003T122412Z
UID:43686-1762596000-1762603200@esterotoday.com
SUMMARY:Veterans Day Celebration
DESCRIPTION:
URL:https://esterotoday.com/event/veterans-day-celebration/
LOCATION:Estero Park & Recreation Center\, 9200 Corkscrew Palms Blvd\, Estero\, FL\, 33928\, United States
CATEGORIES:Community
END:VEVENT
END:VCALENDAR