BEGIN:VCALENDAR
VERSION:2.0
PRODID:-//EsteroToday.com by Engage Estero - ECPv6.15.20//NONSGML v1.0//EN
CALSCALE:GREGORIAN
METHOD:PUBLISH
X-WR-CALNAME:EsteroToday.com by Engage Estero
X-ORIGINAL-URL:https://esterotoday.com
X-WR-CALDESC:Events for EsteroToday.com by Engage Estero
REFRESH-INTERVAL;VALUE=DURATION:PT1H
X-Robots-Tag:noindex
X-PUBLISHED-TTL:PT1H
BEGIN:VTIMEZONE
TZID:America/New_York
BEGIN:DAYLIGHT
TZOFFSETFROM:-0500
TZOFFSETTO:-0400
TZNAME:EDT
DTSTART:20240310T070000
END:DAYLIGHT
BEGIN:STANDARD
TZOFFSETFROM:-0400
TZOFFSETTO:-0500
TZNAME:EST
DTSTART:20241103T060000
END:STANDARD
BEGIN:DAYLIGHT
TZOFFSETFROM:-0500
TZOFFSETTO:-0400
TZNAME:EDT
DTSTART:20250309T070000
END:DAYLIGHT
BEGIN:STANDARD
TZOFFSETFROM:-0400
TZOFFSETTO:-0500
TZNAME:EST
DTSTART:20251102T060000
END:STANDARD
BEGIN:DAYLIGHT
TZOFFSETFROM:-0500
TZOFFSETTO:-0400
TZNAME:EDT
DTSTART:20260308T070000
END:DAYLIGHT
BEGIN:STANDARD
TZOFFSETFROM:-0400
TZOFFSETTO:-0500
TZNAME:EST
DTSTART:20261101T060000
END:STANDARD
END:VTIMEZONE
BEGIN:VEVENT
DTSTART;TZID=America/New_York:20250910T113000
DTEND;TZID=America/New_York:20250910T130000
DTSTAMP:20260421T082839
CREATED:20250722T174341Z
LAST-MODIFIED:20250722T174341Z
UID:42573-1757503800-1757509200@esterotoday.com
SUMMARY:Food for Thought featuring Andy Petry of Arthrex
DESCRIPTION:Join Us for the September Food for Thought Luncheon!\nThe Greater Estero Chamber of Commerce is pleased to welcome Andy Petry\, Senior Group Product Manager at Arthrex\, as our featured speaker for the September Food for Thought Luncheon.\n\nAndy will provide an inside look at Arthrex’s exciting new Cardiothoracic Surgery division\, which focuses on groundbreaking innovations in procedures involving the heart\, lungs\, and chest organs. Headquartered in Naples\, Arthrex is recognized globally as a leader in minimally invasive surgical technology\, research\, manufacturing\, and medical education.\n \nWednesday\, September 10\n11:30 AM – 1:00 PM\nEmbassy Suites Estero\n10450 Corkscrew Commons Dr\, Estero\, FL 33928\n\nEnjoy a buffet lunch prepared by the talented Embassy Suites culinary team\, and take advantage of this great opportunity to connect with local business and community leaders in a relaxed\, engaging atmosphere.\n \nTickets:\n$30 for Chamber members\n$40 for non-members\nGet your tickets here: \nhttps://business.esterochamber.org/events/details/food-for-thought-luncheon-athrex-andy-petry-1265
URL:https://esterotoday.com/event/food-for-thought-featuring-andy-petry-of-arthrex/
LOCATION:Embassy Suites Estero
CATEGORIES:Community
END:VEVENT
END:VCALENDAR