BEGIN:VCALENDAR
VERSION:2.0
PRODID:-//EsteroToday.com by Engage Estero - ECPv6.15.20//NONSGML v1.0//EN
CALSCALE:GREGORIAN
METHOD:PUBLISH
X-WR-CALNAME:EsteroToday.com by Engage Estero
X-ORIGINAL-URL:https://esterotoday.com
X-WR-CALDESC:Events for EsteroToday.com by Engage Estero
REFRESH-INTERVAL;VALUE=DURATION:PT1H
X-Robots-Tag:noindex
X-PUBLISHED-TTL:PT1H
BEGIN:VTIMEZONE
TZID:America/New_York
BEGIN:DAYLIGHT
TZOFFSETFROM:-0500
TZOFFSETTO:-0400
TZNAME:EDT
DTSTART:20250309T070000
END:DAYLIGHT
BEGIN:STANDARD
TZOFFSETFROM:-0400
TZOFFSETTO:-0500
TZNAME:EST
DTSTART:20251102T060000
END:STANDARD
BEGIN:DAYLIGHT
TZOFFSETFROM:-0500
TZOFFSETTO:-0400
TZNAME:EDT
DTSTART:20260308T070000
END:DAYLIGHT
BEGIN:STANDARD
TZOFFSETFROM:-0400
TZOFFSETTO:-0500
TZNAME:EST
DTSTART:20261101T060000
END:STANDARD
BEGIN:DAYLIGHT
TZOFFSETFROM:-0500
TZOFFSETTO:-0400
TZNAME:EDT
DTSTART:20270314T070000
END:DAYLIGHT
BEGIN:STANDARD
TZOFFSETFROM:-0400
TZOFFSETTO:-0500
TZNAME:EST
DTSTART:20271107T060000
END:STANDARD
END:VTIMEZONE
BEGIN:VEVENT
DTSTART;TZID=America/New_York:20260425T193000
DTEND;TZID=America/New_York:20260425T223000
DTSTAMP:20260424T201619
CREATED:20260325T132033Z
LAST-MODIFIED:20260325T133336Z
UID:45396-1777145400-1777156200@esterotoday.com
SUMMARY:Mud and Blues Benefit Concert
DESCRIPTION:Support the Estero Historical Society and enjoy a unique local musical experience! \nStep into the backwaters of old Florida with Mud and Blues\, a swamp-soaked evening of music and storytelling inspired by the legends of the Everglades. On Saturday\, April 25\, 2026\, The Swamp Blues Band brings to life the tales that rose from the mud — rum runners slipping through moonlit mangroves\, pioneer fishermen chasing tarpon at dawn\, early champions of environmental protection fighting to preserve a wild and fragile frontier\, and even whispers of the elusive skunk ape drifting through the cypress shadows. \n50% of tickets purchased by Estero Historical Society supporters benefits the Society! Put “Estero Historical Society” in the comments field as you checkout at https://artsbonita.org/performances/ \nThe Estero Historical Society is a 501(c)3 organization dedicated to preserving and sharing the history of our unique greater Estero area\, and depends on volunteers and donations for projects such as the relocation and restoration of the Alvarez/Smith Home. Find out more about us at www.EsteroHistoricalSociety.com
URL:https://esterotoday.com/event/mud-and-blues-benefit-concert/
LOCATION:Moe Auditorium | Arts Bonita 10150 Bonita Beach Road\, Bonita Springs\, FL 34135
CATEGORIES:Arts
END:VEVENT
END:VCALENDAR