BEGIN:VCALENDAR
VERSION:2.0
PRODID:-//EsteroToday.com by Engage Estero - ECPv6.15.20//NONSGML v1.0//EN
CALSCALE:GREGORIAN
METHOD:PUBLISH
X-WR-CALNAME:EsteroToday.com by Engage Estero
X-ORIGINAL-URL:https://esterotoday.com
X-WR-CALDESC:Events for EsteroToday.com by Engage Estero
REFRESH-INTERVAL;VALUE=DURATION:PT1H
X-Robots-Tag:noindex
X-PUBLISHED-TTL:PT1H
BEGIN:VTIMEZONE
TZID:America/New_York
BEGIN:DAYLIGHT
TZOFFSETFROM:-0500
TZOFFSETTO:-0400
TZNAME:EDT
DTSTART:20210314T070000
END:DAYLIGHT
BEGIN:STANDARD
TZOFFSETFROM:-0400
TZOFFSETTO:-0500
TZNAME:EST
DTSTART:20211107T060000
END:STANDARD
BEGIN:DAYLIGHT
TZOFFSETFROM:-0500
TZOFFSETTO:-0400
TZNAME:EDT
DTSTART:20220313T070000
END:DAYLIGHT
BEGIN:STANDARD
TZOFFSETFROM:-0400
TZOFFSETTO:-0500
TZNAME:EST
DTSTART:20221106T060000
END:STANDARD
BEGIN:DAYLIGHT
TZOFFSETFROM:-0500
TZOFFSETTO:-0400
TZNAME:EDT
DTSTART:20230312T070000
END:DAYLIGHT
BEGIN:STANDARD
TZOFFSETFROM:-0400
TZOFFSETTO:-0500
TZNAME:EST
DTSTART:20231105T060000
END:STANDARD
BEGIN:DAYLIGHT
TZOFFSETFROM:-0500
TZOFFSETTO:-0400
TZNAME:EDT
DTSTART:20240310T070000
END:DAYLIGHT
BEGIN:STANDARD
TZOFFSETFROM:-0400
TZOFFSETTO:-0500
TZNAME:EST
DTSTART:20241103T060000
END:STANDARD
END:VTIMEZONE
BEGIN:VEVENT
DTSTART;TZID=America/New_York:20221204T150000
DTEND;TZID=America/New_York:20221204T150000
DTSTAMP:20260424T114952
CREATED:20221125T191936Z
LAST-MODIFIED:20221125T191936Z
UID:30382-1670166000-1670166000@esterotoday.com
SUMMARY:Nisita Concert Series Logan Skelton\, piano
DESCRIPTION:Logan Skelton is a much sought-after pianist\, teacher and composer whose work has received international critical acclaim.
URL:https://esterotoday.com/event/nisita-concert-series-logan-skelton-piano/
LOCATION:FGCU
CATEGORIES:Arts
END:VEVENT
BEGIN:VEVENT
DTSTART;TZID=America/New_York:20221205T160000
DTEND;TZID=America/New_York:20221205T180000
DTSTAMP:20260424T114952
CREATED:20221125T192257Z
LAST-MODIFIED:20221125T192257Z
UID:30388-1670256000-1670263200@esterotoday.com
SUMMARY:Protecting Yourself from Home Repair Fraud and Scams Workshop
DESCRIPTION:The National Alliance Against Home Repair Fraud and a panel of local experts will give a presentation on avoiding home repair/rebuild scams during the hurricane recovery.
URL:https://esterotoday.com/event/protecting-yourself-from-home-repair-fraud-and-scams-workshop/
LOCATION:South County Regional Library
CATEGORIES:Arts
END:VEVENT
BEGIN:VEVENT
DTSTART;TZID=America/New_York:20221208T140000
DTEND;TZID=America/New_York:20221208T153000
DTSTAMP:20260424T114952
CREATED:20221125T192353Z
LAST-MODIFIED:20221125T192353Z
UID:30390-1670508000-1670513400@esterotoday.com
SUMMARY:A Christmas Carol
DESCRIPTION:Acclaimed actor Duffy Hudson will perform the timeless holiday classic “A Christmas Carol.”
URL:https://esterotoday.com/event/a-christmas-carol/
LOCATION:South County Regional Library
CATEGORIES:Arts
END:VEVENT
BEGIN:VEVENT
DTSTART;VALUE=DATE:20230127
DTEND;VALUE=DATE:20230128
DTSTAMP:20260424T114952
CREATED:20221108T203120Z
LAST-MODIFIED:20221108T203120Z
UID:30124-1674777600-1674863999@esterotoday.com
SUMMARY:Ghost Walk
DESCRIPTION:Stroll past restored buildings from a bygone era and watch reenactors perform scenes from their lives before\, during\, and after the Koreshans settled in Southwest Florida. Six performances nightly starting at 6:45 pm. Ticket sales start in December.
URL:https://esterotoday.com/event/ghost-walk/
LOCATION:Koreshan State Park
CATEGORIES:Arts
END:VEVENT
BEGIN:VEVENT
DTSTART;VALUE=DATE:20230128
DTEND;VALUE=DATE:20230129
DTSTAMP:20260424T114952
CREATED:20221108T203134Z
LAST-MODIFIED:20221108T203134Z
UID:30126-1674864000-1674950399@esterotoday.com
SUMMARY:Ghost Walk
DESCRIPTION:Stroll past restored buildings from a bygone era and watch reenactors perform scenes from their lives before\, during\, and after the Koreshans settled in Southwest Florida. Six performances nightly starting at 6:45 pm. Ticket sales start in December.
URL:https://esterotoday.com/event/ghost-walk-2/
LOCATION:Koreshan State Park
CATEGORIES:Arts
END:VEVENT
BEGIN:VEVENT
DTSTART;VALUE=DATE:20230203
DTEND;VALUE=DATE:20230204
DTSTAMP:20260424T114952
CREATED:20221108T203149Z
LAST-MODIFIED:20221108T203149Z
UID:30128-1675382400-1675468799@esterotoday.com
SUMMARY:Ghost Walk
DESCRIPTION:Stroll past restored buildings from a bygone era and watch reenactors perform scenes from their lives before\, during\, and after the Koreshans settled in Southwest Florida. Six performances nightly starting at 6:45 pm. Ticket sales start in December.
URL:https://esterotoday.com/event/ghost-walk-3/
LOCATION:Koreshan State Park
CATEGORIES:Arts
END:VEVENT
BEGIN:VEVENT
DTSTART;VALUE=DATE:20230204
DTEND;VALUE=DATE:20230205
DTSTAMP:20260424T114952
CREATED:20221108T203201Z
LAST-MODIFIED:20221108T203201Z
UID:30130-1675468800-1675555199@esterotoday.com
SUMMARY:Ghost Walk
DESCRIPTION:Stroll past restored buildings from a bygone era and watch reenactors perform scenes from their lives before\, during\, and after the Koreshans settled in Southwest Florida. Six performances nightly starting at 6:45 pm. Ticket sales start in December.
URL:https://esterotoday.com/event/ghost-walk-4/
LOCATION:Koreshan State Park
CATEGORIES:Arts
END:VEVENT
BEGIN:VEVENT
DTSTART;TZID=America/New_York:20230215T140000
DTEND;TZID=America/New_York:20230215T160000
DTSTAMP:20260424T114952
CREATED:20230206T091807Z
LAST-MODIFIED:20230911T151826Z
UID:31068-1676469600-1676476800@esterotoday.com
SUMMARY:Medieval-Renaissance Art & Music
DESCRIPTION:A sampling of the extraordinary culture and history of the Middle Ages through the 16th century from Gregorian Chants to DaVinci.
URL:https://esterotoday.com/event/medieval-renaissance-art-music/
CATEGORIES:Arts
END:VEVENT
BEGIN:VEVENT
DTSTART;TZID=America/New_York:20230223T180000
DTEND;TZID=America/New_York:20230223T190000
DTSTAMP:20260424T114952
CREATED:20230206T091141Z
LAST-MODIFIED:20230911T151831Z
UID:31054-1677175200-1677178800@esterotoday.com
SUMMARY:Fjelstul Art Lecture Vesna Pavlovic: Material Memories
DESCRIPTION:At the heart of the Material Memories project is the question of what role photography plays in remembering history\, both personal and public.
URL:https://esterotoday.com/event/fjelstul-art-lecture-vesna-pavlovic-material-memories/
CATEGORIES:Arts
END:VEVENT
BEGIN:VEVENT
DTSTART;TZID=America/New_York:20230225T093000
DTEND;TZID=America/New_York:20230225T110000
DTSTAMP:20260424T114952
CREATED:20230206T090936Z
LAST-MODIFIED:20230911T151804Z
UID:31049-1677317400-1677322800@esterotoday.com
SUMMARY:History of the Calusa with ﻿Jacob Winge
DESCRIPTION:Guest speaker Jacob Winge will be presenting the History of the Calusa. Continental breakfast is included.
URL:https://esterotoday.com/event/history-of-the-calusa-with-jacob-winge/
CATEGORIES:Arts
END:VEVENT
BEGIN:VEVENT
DTSTART;TZID=America/New_York:20230311T093000
DTEND;TZID=America/New_York:20230311T110000
DTSTAMP:20260424T114952
CREATED:20230301T090127Z
LAST-MODIFIED:20230911T151819Z
UID:31459-1678527000-1678532400@esterotoday.com
SUMMARY:Speaker Series: Alverez Smith Family & Home
DESCRIPTION:Listen to Mr. Jeff McCullers\, local historian\, talk about the Alverez-Smith family\, their home\, their place in Estero history and his personal heritage.
URL:https://esterotoday.com/event/speaker-series-alverez-smith-family-home/
CATEGORIES:Arts
END:VEVENT
BEGIN:VEVENT
DTSTART;TZID=America/New_York:20230317T090000
DTEND;TZID=America/New_York:20230317T100000
DTSTAMP:20260424T114952
CREATED:20230301T085823Z
LAST-MODIFIED:20230911T151823Z
UID:31455-1679043600-1679047200@esterotoday.com
SUMMARY:Art of the Calusa
DESCRIPTION:Join the museum curator of Koreshan State Park for an interesting and informative talk about the history\, culture and art of the Calusa.
URL:https://esterotoday.com/event/art-of-the-calusa-2/
CATEGORIES:Arts
END:VEVENT
BEGIN:VEVENT
DTSTART;TZID=America/New_York:20230401T083000
DTEND;TZID=America/New_York:20230402T200000
DTSTAMP:20260424T114952
CREATED:20230215T135905Z
LAST-MODIFIED:20230216T193046Z
UID:31181-1680337800-1680465600@esterotoday.com
SUMMARY:11th Annual Breaking Par Golf Tournament
DESCRIPTION:April 1st and 2nd\, 2023\nSaturday Shotgun Scramble\nSunday Gala Dinner\nGrandezza \nAll proceeds to fund educational initiatives by LEAD Estero. \nBreaking Par Flyer and Registration
URL:https://esterotoday.com/event/11th-annual-breaking-par-golf-tournament/
LOCATION:Grandezza\, 11481 Grande Oak Blvd\, Estero\, FL\, 33928\, United States
CATEGORIES:Arts
ORGANIZER;CN="Lead Estero":MAILTO:Donate@LEADestero.com
END:VEVENT
BEGIN:VEVENT
DTSTART;TZID=America/New_York:20230420T183000
DTEND;TZID=America/New_York:20230420T183000
DTSTAMP:20260424T114952
CREATED:20230405T140920Z
LAST-MODIFIED:20230405T140920Z
UID:31911-1682015400-1682015400@esterotoday.com
SUMMARY:The Alibis Show
DESCRIPTION:
URL:https://esterotoday.com/event/the-alibis-show/
LOCATION:Estero High School\, 21900 River Ranch Road\, Estero\, FL\, 33928\, United States
CATEGORIES:Arts
ATTACH;FMTTYPE=image/png:https://esterotoday.com/wp-content/uploads/2023/04/alibis.png
END:VEVENT
BEGIN:VEVENT
DTSTART;TZID=America/New_York:20230620T173000
DTEND;TZID=America/New_York:20230620T193000
DTSTAMP:20260424T114952
CREATED:20230531T205108Z
LAST-MODIFIED:20230531T205108Z
UID:32354-1687282200-1687289400@esterotoday.com
SUMMARY:International Network of Creatives
DESCRIPTION:International Network of Creatives (formerly Storytellers Creative Arts\, Inc.) \nbill.barnett@incswfl.org \nA gathering of creatives\, connecting and building community. Come enjoy light refreshments and live music with Java Moon\, a trio that plays a variety of musical genres. Learn about INC’s community groups for creatives\, and our community outreach programs reaching adults battling addiction and mental illness\, underprivileged children\, and youth. \nDonation https://www.internationalnetworkofcreatives.org/events-1/creatives-connect-mixer \nInternational Network of Creatives (formerly Storytellers Creative Arts\, Inc.) International Network of Creatives (formerly Storytellers Creative Arts\, Inc.)
URL:https://esterotoday.com/event/international-network-of-creatives/
LOCATION:Norris Center\, 755 8th Avenue South\, Naples\, FL\, 34102\, United States
CATEGORIES:Arts
END:VEVENT
BEGIN:VEVENT
DTSTART;TZID=America/New_York:20230622T140000
DTEND;TZID=America/New_York:20230622T150000
DTSTAMP:20260424T114952
CREATED:20230524T135552Z
LAST-MODIFIED:20230911T151812Z
UID:32236-1687442400-1687446000@esterotoday.com
SUMMARY:Everything you Need to Know about 19th Century Art History
DESCRIPTION:Take a look back at its revolutionary origins in ancient Rome\, and then examine the amazing Romantic revival in early 19th Century Europe.  Viewing samples of their paintings and poems which idealize “enchanted” nature\, celebrate universal freedom\, and glorify human destiny\, we will see how Romantic artists attempted to harness the proverbial search for paradise.
URL:https://esterotoday.com/event/everything-you-need-to-know-about-19th-century-art-history/
CATEGORIES:Arts
END:VEVENT
BEGIN:VEVENT
DTSTART;TZID=America/New_York:20230913T120000
DTEND;TZID=America/New_York:20230913T133000
DTSTAMP:20260424T114952
CREATED:20230825T085454Z
LAST-MODIFIED:20230825T085454Z
UID:33024-1694606400-1694611800@esterotoday.com
SUMMARY:Food for Thought Luncheon
DESCRIPTION:The Food for Thought Luncheon features Cheryl Mandell\, Managing Editor of Estero Life Magazine. Take advantage of the opportunity to learn from a professional with 25 years of experience in marketing\, media relations\, and event planning
URL:https://esterotoday.com/event/food-for-thought-luncheon/
LOCATION:Embassy Suites by Hilton\, 10450 Corkscrew Commons Drive\, Estero\, Florida\, 33928
CATEGORIES:Arts
END:VEVENT
BEGIN:VEVENT
DTSTART;TZID=America/New_York:20230916T080000
DTEND;TZID=America/New_York:20230916T110000
DTSTAMP:20260424T114952
CREATED:20230906T063623Z
LAST-MODIFIED:20230911T151859Z
UID:33093-1694851200-1694862000@esterotoday.com
SUMMARY:Coastal Cleanup
DESCRIPTION:Join the annual clean up of our coasts at any of the locations volunteers will work at. Can’t clean-up? Donors get a t-shirt for helping support the effort.
URL:https://esterotoday.com/event/coastal-cleanup/
LOCATION:Keep Lee County Beautiful
CATEGORIES:Arts
END:VEVENT
BEGIN:VEVENT
DTSTART;TZID=America/New_York:20230916T093000
DTEND;TZID=America/New_York:20230916T110000
DTSTAMP:20260424T114952
CREATED:20230801T010901Z
LAST-MODIFIED:20230911T151757Z
UID:32749-1694856600-1694862000@esterotoday.com
SUMMARY:A History of the Koreshan Unity Settlement
DESCRIPTION:Presented by the Estero Historical Society at the Historic Art Hall in Koreshan State Park\, Estero\, FL  9:30 – 11:00 am. Presenter: Ron Westcott\, lead docent at Koreshan State Park The Koreshan Unity Settlement which moved from Chicago to southwest Florida in 1893 had a profound effect on the development of this area. They were […]
URL:https://esterotoday.com/event/a-history-of-the-koreshan-unity-settlement/
LOCATION:Koreshan State Park 3800 Corkscrew Road\, Estero\, FL\, United States
CATEGORIES:Arts
END:VEVENT
BEGIN:VEVENT
DTSTART;VALUE=DATE:20230929
DTEND;VALUE=DATE:20230930
DTSTAMP:20260424T114952
CREATED:20230906T064150Z
LAST-MODIFIED:20230911T151923Z
UID:33097-1695945600-1696031999@esterotoday.com
SUMMARY:Reelin' for Responders
DESCRIPTION:Adults and kids can have fun and win prizes fishing for snook\, redfish\, and more along our shoreline. Proceeds benefit the Bonita Springs and Estero Fire benevolent funds. \n  \n 
URL:https://esterotoday.com/event/reelin-for-responders/
CATEGORIES:Arts
END:VEVENT
BEGIN:VEVENT
DTSTART;VALUE=DATE:20230930
DTEND;VALUE=DATE:20231001
DTSTAMP:20260424T114952
CREATED:20230906T065058Z
LAST-MODIFIED:20230911T151919Z
UID:33100-1696032000-1696118399@esterotoday.com
SUMMARY:Reelin' for Responders
DESCRIPTION:Adults and kids can have fun and win prizes fishing for snook\, redfish\, and more along our shoreline. Proceeds benefit the Bonita Springs and Estero Fire benevolent funds.
URL:https://esterotoday.com/event/reelin-for-responders-2/
CATEGORIES:Arts
END:VEVENT
BEGIN:VEVENT
DTSTART;TZID=America/New_York:20231014T073000
DTEND;TZID=America/New_York:20231014T123000
DTSTAMP:20260424T114952
CREATED:20231004T133836Z
LAST-MODIFIED:20231011T184850Z
UID:33580-1697268600-1697286600@esterotoday.com
SUMMARY:Estero Yard Sale
DESCRIPTION:Rain or shine\, shop or sell at the community yard sale.
URL:https://esterotoday.com/event/estero-yard-sale/
LOCATION:Estero Park and Recreation Center
CATEGORIES:Arts
END:VEVENT
BEGIN:VEVENT
DTSTART;TZID=America/New_York:20231014T073000
DTEND;TZID=America/New_York:20231014T170000
DTSTAMP:20260424T114952
CREATED:20231004T133605Z
LAST-MODIFIED:20231011T184845Z
UID:33574-1697268600-1697302800@esterotoday.com
SUMMARY:Yard Sale
DESCRIPTION:Save the date for the Fall Yard Sale benefiting the Estero Historical Society.
URL:https://esterotoday.com/event/yard-sale/
LOCATION:Estero Historical Society
CATEGORIES:Arts
END:VEVENT
BEGIN:VEVENT
DTSTART;TZID=America/New_York:20231014T100000
DTEND;TZID=America/New_York:20231014T113000
DTSTAMP:20260424T114952
CREATED:20231004T133010Z
LAST-MODIFIED:20231011T184842Z
UID:33568-1697277600-1697283000@esterotoday.com
SUMMARY:Plant This\, Not That
DESCRIPTION:Master Gardener Debbie Boyles will share Florida friendly alternatives to invasive plants that will attract birds\, butterflies and beauty to your yard.
URL:https://esterotoday.com/event/plant-this-not-that/
LOCATION:Estero Park & Recreation Center\, 9200 Corkscrew Palms Blvd\, Estero\, FL\, 33928\, United States
CATEGORIES:Arts
END:VEVENT
BEGIN:VEVENT
DTSTART;TZID=America/New_York:20231014T170000
DTEND;TZID=America/New_York:20231014T200000
DTSTAMP:20260424T114952
CREATED:20231004T133347Z
LAST-MODIFIED:20231011T184838Z
UID:33571-1697302800-1697313600@esterotoday.com
SUMMARY:Sip and Stroll for a Cause
DESCRIPTION:Support the Lee Health Cancer Institute in an evening of shopping\, store events\, fashion show\, live music\, auctions and more. The event is open to the public\, with a bonus bracelet of extras benefitting the institute available.
URL:https://esterotoday.com/event/sip-and-stroll-for-a-cause/
LOCATION:Coconut Point Mall
CATEGORIES:Arts
END:VEVENT
BEGIN:VEVENT
DTSTART;TZID=America/New_York:20231021T093000
DTEND;TZID=America/New_York:20231021T110000
DTSTAMP:20260424T114952
CREATED:20231004T133722Z
LAST-MODIFIED:20231011T184813Z
UID:33576-1697880600-1697886000@esterotoday.com
SUMMARY:Speaker Series: Ponce de Leon
DESCRIPTION:Presenter\, local historian Jacob Winge\, will talk about de Leon’s interaction with our part of Florida. Program includes a continental breakfast. Advance registration is required.
URL:https://esterotoday.com/event/speaker-series-ponce-de-leon/
LOCATION:Country Creek Country Club\, 21180 Country Creek Drive\, Estero\, FL\, 33928\, United States
CATEGORIES:Arts
END:VEVENT
BEGIN:VEVENT
DTSTART;TZID=America/New_York:20231028T170000
DTEND;TZID=America/New_York:20231028T204500
DTSTAMP:20260424T114952
CREATED:20231004T133959Z
LAST-MODIFIED:20231011T184804Z
UID:33583-1698512400-1698525900@esterotoday.com
SUMMARY:Spooktacular Night at Estero
DESCRIPTION:Annual Trunk or Treat followed by a Movie in the Park. The park is accepting trunker applications.
URL:https://esterotoday.com/event/spooktacular-night-at-estero/
LOCATION:Estero Park and Recreation Center
CATEGORIES:Arts
END:VEVENT
BEGIN:VEVENT
DTSTART;TZID=America/New_York:20231101T120000
DTEND;TZID=America/New_York:20231101T130000
DTSTAMP:20260424T114952
CREATED:20231025T080030Z
LAST-MODIFIED:20231025T080030Z
UID:34035-1698840000-1698843600@esterotoday.com
SUMMARY:Y&HOW Sustainability Workshop: Alternative Proteins
DESCRIPTION:Ms. Renee Bell\, Senior Science Content Specialist from the Good Foods Institute will lead a virtual program on alternative protein options and why they benefit climate goals.
URL:https://esterotoday.com/event/yhow-sustainability-workshop-alternative-proteins/
LOCATION:Online
CATEGORIES:Arts
END:VEVENT
BEGIN:VEVENT
DTSTART;TZID=America/New_York:20231102T193000
DTEND;TZID=America/New_York:20231102T193000
DTSTAMP:20260424T114952
CREATED:20231025T075516Z
LAST-MODIFIED:20231025T075516Z
UID:34029-1698953400-1698953400@esterotoday.com
SUMMARY:Andrus Madsen\, Harpsichord & Susan Ogata\, Violin
DESCRIPTION:An evening of music that will transport listeners to the 17th and 18th centuries.
URL:https://esterotoday.com/event/andrus-madsen-harpsichord-susan-ogata-violin/
LOCATION:FGCU
CATEGORIES:Arts
END:VEVENT
BEGIN:VEVENT
DTSTART;TZID=America/New_York:20231103T090000
DTEND;TZID=America/New_York:20231103T100000
DTSTAMP:20260424T114952
CREATED:20231025T075853Z
LAST-MODIFIED:20231025T075853Z
UID:34033-1699002000-1699005600@esterotoday.com
SUMMARY:Koreshanity: Estero's New Age Religion
DESCRIPTION:Join a park ranger for a fascinating overview of Koreshanity\, the unusual religion that was practiced by the members of the Koreshan Unity.
URL:https://esterotoday.com/event/koreshanity-esteros-new-age-religion/
LOCATION:Koreshan State Park
CATEGORIES:Arts
END:VEVENT
END:VCALENDAR