BEGIN:VCALENDAR
VERSION:2.0
PRODID:-//EsteroToday.com by Engage Estero - ECPv6.15.20//NONSGML v1.0//EN
CALSCALE:GREGORIAN
METHOD:PUBLISH
X-WR-CALNAME:EsteroToday.com by Engage Estero
X-ORIGINAL-URL:https://esterotoday.com
X-WR-CALDESC:Events for EsteroToday.com by Engage Estero
REFRESH-INTERVAL;VALUE=DURATION:PT1H
X-Robots-Tag:noindex
X-PUBLISHED-TTL:PT1H
BEGIN:VTIMEZONE
TZID:America/New_York
BEGIN:DAYLIGHT
TZOFFSETFROM:-0500
TZOFFSETTO:-0400
TZNAME:EDT
DTSTART:20210314T070000
END:DAYLIGHT
BEGIN:STANDARD
TZOFFSETFROM:-0400
TZOFFSETTO:-0500
TZNAME:EST
DTSTART:20211107T060000
END:STANDARD
BEGIN:DAYLIGHT
TZOFFSETFROM:-0500
TZOFFSETTO:-0400
TZNAME:EDT
DTSTART:20220313T070000
END:DAYLIGHT
BEGIN:STANDARD
TZOFFSETFROM:-0400
TZOFFSETTO:-0500
TZNAME:EST
DTSTART:20221106T060000
END:STANDARD
BEGIN:DAYLIGHT
TZOFFSETFROM:-0500
TZOFFSETTO:-0400
TZNAME:EDT
DTSTART:20230312T070000
END:DAYLIGHT
BEGIN:STANDARD
TZOFFSETFROM:-0400
TZOFFSETTO:-0500
TZNAME:EST
DTSTART:20231105T060000
END:STANDARD
END:VTIMEZONE
BEGIN:VEVENT
DTSTART;TZID=America/New_York:20220807T080000
DTEND;TZID=America/New_York:20220807T080000
DTSTAMP:20260424T125432
CREATED:20220720T121640Z
LAST-MODIFIED:20220720T121640Z
UID:29132-1659859200-1659859200@esterotoday.com
SUMMARY:Farmers Market
DESCRIPTION:Local produce\, honey\, fresh guacamole and salsas\, sea glass\, jewelry\, street food\, arts & crafts\, tie-dye and more! Free with entrance fee.
URL:https://esterotoday.com/event/farmers-market/
LOCATION:Koreshan State Park
CATEGORIES:Arts
END:VEVENT
BEGIN:VEVENT
DTSTART;TZID=America/New_York:20220808T090000
DTEND;TZID=America/New_York:20220808T200000
DTSTAMP:20260424T125432
CREATED:20220720T122333Z
LAST-MODIFIED:20220721T124617Z
UID:29147-1659949200-1659988800@esterotoday.com
SUMMARY:Book Sale
DESCRIPTION:Get a great deal on used books and other items while supporting the Friends of South County Regional Library\, a non-profit that funds and supports programs and services at the library.
URL:https://esterotoday.com/event/book-sale-3/
LOCATION:South County Regional Library
CATEGORIES:Arts
END:VEVENT
BEGIN:VEVENT
DTSTART;TZID=America/New_York:20220810T120000
DTEND;TZID=America/New_York:20220810T133000
DTSTAMP:20260424T125432
CREATED:20220720T121826Z
LAST-MODIFIED:20220721T124002Z
UID:29135-1660132800-1660138200@esterotoday.com
SUMMARY:Food for Thought: Focusing on Local Non-Profit Organizations
DESCRIPTION:Keynote Speaker Rick Jacobs from 4Kids: A Home for Every Child will speak at this luncheon at Hyatt Place Coconut Point.
URL:https://esterotoday.com/event/food-for-thought-focusing-on-local-non-profit-organizations/
LOCATION:Hyatt Regency Coconut Point\, 5001 Coconut Rd\, Bonita Springs\, FL\, 34134
CATEGORIES:Arts
END:VEVENT
BEGIN:VEVENT
DTSTART;TZID=America/New_York:20220813T190000
DTEND;TZID=America/New_York:20220813T190000
DTSTAMP:20260424T125432
CREATED:20220720T121423Z
LAST-MODIFIED:20220721T124533Z
UID:29127-1660417200-1660417200@esterotoday.com
SUMMARY:Songwriters for Vets  Fundraiser Performance
DESCRIPTION:Nashville songwriters perform their #1 hits in a premium fundraiser for veterans at Hyatt Coconut Point Resort.
URL:https://esterotoday.com/event/songwriters-for-vets-fundraiser-performance/
LOCATION:Hyatt Regency Coconut Point\, 5001 Coconut Rd\, Bonita Springs\, FL\, 34134
CATEGORIES:Arts
END:VEVENT
BEGIN:VEVENT
DTSTART;TZID=America/New_York:20220815T153000
DTEND;TZID=America/New_York:20220815T163000
DTSTAMP:20260424T125432
CREATED:20220720T122703Z
LAST-MODIFIED:20220720T122703Z
UID:29150-1660577400-1660581000@esterotoday.com
SUMMARY:Kindness Club
DESCRIPTION:Kids can participate in fun activities designed to encourage kindness & help make the world a better place! For children\, ages 7-11
URL:https://esterotoday.com/event/kindness-club/
LOCATION:South County Regional Library
CATEGORIES:Arts
END:VEVENT
BEGIN:VEVENT
DTSTART;TZID=America/New_York:20220820T103000
DTEND;TZID=America/New_York:20220820T120000
DTSTAMP:20260424T125432
CREATED:20220720T122932Z
LAST-MODIFIED:20220720T122947Z
UID:29153-1660991400-1660996800@esterotoday.com
SUMMARY:Walk on the Wild Side
DESCRIPTION:Join a park ranger for a guided hike along our Black Island Trail. Learn about the fascinating vegetation and wildlife that reside in our maritime hammock ecosystem\, explore our native butterfly garden\, and enjoy a little local history along the way.
URL:https://esterotoday.com/event/walk-on-the-wild-side-4/
LOCATION:Lovers Key State Park
CATEGORIES:Arts
END:VEVENT
BEGIN:VEVENT
DTSTART;TZID=America/New_York:20220824T100000
DTEND;TZID=America/New_York:20220824T110000
DTSTAMP:20260424T125432
CREATED:20220720T120816Z
LAST-MODIFIED:20220720T120816Z
UID:29119-1661335200-1661338800@esterotoday.com
SUMMARY:The Power of Gratitude
DESCRIPTION:Join us as we explore the benefits of living our lives with gratitude and becoming more mindful at practicing gratitude daily. We will provide a light lunch after the presentation
URL:https://esterotoday.com/event/the-power-of-gratitude/
LOCATION:Lee Health Coconut Point
CATEGORIES:Arts
END:VEVENT
BEGIN:VEVENT
DTSTART;TZID=America/New_York:20220901T193000
DTEND;TZID=America/New_York:20220901T193000
DTSTAMP:20260424T125432
CREATED:20220830T040558Z
LAST-MODIFIED:20220830T042003Z
UID:29633-1662060600-1662060600@esterotoday.com
SUMMARY:Nisita Concert Series: Woodwind Quintet
DESCRIPTION:The Bower School of Music Faculty Woodwind Quintet perform exquisite music\, joined by pianist Michael Baron.
URL:https://esterotoday.com/event/fgcu/
LOCATION:FGCU
CATEGORIES:Arts
END:VEVENT
BEGIN:VEVENT
DTSTART;TZID=America/New_York:20220904T080000
DTEND;TZID=America/New_York:20220904T130000
DTSTAMP:20260424T125432
CREATED:20220830T035812Z
LAST-MODIFIED:20220830T042425Z
UID:29613-1662278400-1662296400@esterotoday.com
SUMMARY:Sunday Farmers Market
DESCRIPTION:Local produce\, honey\, fresh guacamole and salsas\, sea glass\, jewelry\, street food\, arts & crafts\, tie-dye and more!
URL:https://esterotoday.com/event/koreshan-state-park/
LOCATION:Koreshan State Park
CATEGORIES:Arts
END:VEVENT
BEGIN:VEVENT
DTSTART;TZID=America/New_York:20220907T130000
DTEND;TZID=America/New_York:20220907T160000
DTSTAMP:20260424T125432
CREATED:20220830T041308Z
LAST-MODIFIED:20220830T041707Z
UID:29641-1662555600-1662566400@esterotoday.com
SUMMARY:Medicare 101: Understanding the Basics
DESCRIPTION:This educational course will remove the confusion about Medicare including what is covered and what is not covered — such as chronic long-term care. When and how to enroll in the four parts of Medicare is explained.
URL:https://esterotoday.com/event/south-county-regional-library-2/
LOCATION:South County Regional Library
CATEGORIES:Arts
END:VEVENT
BEGIN:VEVENT
DTSTART;TZID=America/New_York:20220909T090000
DTEND;TZID=America/New_York:20220909T220000
DTSTAMP:20260424T125432
CREATED:20220830T040325Z
LAST-MODIFIED:20220830T042213Z
UID:29625-1662714000-1662760800@esterotoday.com
SUMMARY:Open House: Golf Coast Driving Range
DESCRIPTION:The Estero Forever Foundation invites the public to explore the Golf Coast Driving Range\, where proceeds benefit the community.
URL:https://esterotoday.com/event/estero-forever-foundation-2/
LOCATION:Estero Forever Foundation
CATEGORIES:Arts
END:VEVENT
BEGIN:VEVENT
DTSTART;TZID=America/New_York:20220910T110000
DTEND;TZID=America/New_York:20220910T110000
DTSTAMP:20260424T125432
CREATED:20220830T035444Z
LAST-MODIFIED:20220830T123634Z
UID:29607-1662807600-1662807600@esterotoday.com
SUMMARY:Blue Mass
DESCRIPTION:Our Lady of Light’s Knights of Columbus honor First Responders and their families as they express their gratitude for and support of local Law Enforcement\, Fire\, EMS and First Responders. View the flyer.
URL:https://esterotoday.com/event/knights-of-columbus/
LOCATION:Knights of Columbus
CATEGORIES:Arts
END:VEVENT
BEGIN:VEVENT
DTSTART;TZID=America/New_York:20220911T080000
DTEND;TZID=America/New_York:20220911T130000
DTSTAMP:20260424T125432
CREATED:20220830T035841Z
LAST-MODIFIED:20220830T042420Z
UID:29615-1662883200-1662901200@esterotoday.com
SUMMARY:Sunday Farmers Market
DESCRIPTION:Local produce\, honey\, fresh guacamole and salsas\, sea glass\, jewelry\, street food\, arts & crafts\, tie-dye and more!
URL:https://esterotoday.com/event/koreshan-state-park-2/
LOCATION:Koreshan State Park
CATEGORIES:Arts
END:VEVENT
BEGIN:VEVENT
DTSTART;TZID=America/New_York:20220913T180000
DTEND;TZID=America/New_York:20220913T190000
DTSTAMP:20260424T125432
CREATED:20220830T041449Z
LAST-MODIFIED:20220830T041449Z
UID:29644-1663092000-1663095600@esterotoday.com
SUMMARY:Magic Workshop for Teens
DESCRIPTION:For ages 12-17. Learn magic tricks that will amaze your friends and family during this workshop featuring award-winning magician\, Joey Evans.
URL:https://esterotoday.com/event/magic-workshop-for-teens/
LOCATION:South County Regional Library
CATEGORIES:Arts
END:VEVENT
BEGIN:VEVENT
DTSTART;TZID=America/New_York:20220914T103000
DTEND;TZID=America/New_York:20220914T120000
DTSTAMP:20260424T125432
CREATED:20220830T035634Z
LAST-MODIFIED:20220830T042524Z
UID:29611-1663151400-1663156800@esterotoday.com
SUMMARY:Savvy Sea Turtles
DESCRIPTION:Join a park naturalist for an introduction to sea turtles\, our savvy summer residents. Learn what sea turtles like to eat\, where they live\, and what you can do to help keep them safe on and off the beach.
URL:https://esterotoday.com/event/lovers-key-state-park/
LOCATION:Lovers Key State Park
CATEGORIES:Arts
END:VEVENT
BEGIN:VEVENT
DTSTART;TZID=America/New_York:20220914T110000
DTEND;TZID=America/New_York:20220914T120000
DTSTAMP:20260424T125432
CREATED:20220830T040736Z
LAST-MODIFIED:20220830T041749Z
UID:29635-1663153200-1663156800@esterotoday.com
SUMMARY:The Importance of Balance
DESCRIPTION:Join Chris Williams from Emeritus Health and learn why your balance gets worse as you age and how to improve it with in-home exercises. He will show you a series of exercises that you can do in your home to help improve your balance.
URL:https://esterotoday.com/event/florida-blue/
LOCATION:Florida Blue
CATEGORIES:Arts
END:VEVENT
BEGIN:VEVENT
DTSTART;TZID=America/New_York:20220918T080000
DTEND;TZID=America/New_York:20220918T130000
DTSTAMP:20260424T125432
CREATED:20220830T035859Z
LAST-MODIFIED:20220830T042413Z
UID:29617-1663488000-1663506000@esterotoday.com
SUMMARY:Sunday Farmers Market
DESCRIPTION:Local produce\, honey\, fresh guacamole and salsas\, sea glass\, jewelry\, street food\, arts & crafts\, tie-dye and more!
URL:https://esterotoday.com/event/koreshan-state-park-3/
LOCATION:Koreshan State Park
CATEGORIES:Arts
END:VEVENT
BEGIN:VEVENT
DTSTART;TZID=America/New_York:20220921T110000
DTEND;TZID=America/New_York:20220921T120000
DTSTAMP:20260424T125432
CREATED:20220830T040810Z
LAST-MODIFIED:20220830T041813Z
UID:29638-1663758000-1663761600@esterotoday.com
SUMMARY:The Importance of Balance
DESCRIPTION:Join Chris Williams from Emeritus Health and learn why your balance gets worse as you age and how to improve it with in-home exercises. He will show you a series of exercises that you can do in your home to help improve your balance.
URL:https://esterotoday.com/event/florida-blue-2/
LOCATION:Florida Blue
CATEGORIES:Arts
END:VEVENT
BEGIN:VEVENT
DTSTART;TZID=America/New_York:20220921T170000
DTEND;TZID=America/New_York:20220921T190000
DTSTAMP:20260424T125432
CREATED:20220830T040211Z
LAST-MODIFIED:20220830T042252Z
UID:29621-1663779600-1663786800@esterotoday.com
SUMMARY:Women's Self Defense Class
DESCRIPTION:Women ages 13 and up can learn basic self-defense techniques\, assertiveness\, verbal confrontation skills and safety strategies from the Lee County Sheriff’s Office. Registration Required.
URL:https://esterotoday.com/event/lee-county-sheriffs-office-at-miromar/
LOCATION:Lee County Sheriff’s Office at Miromar
CATEGORIES:Arts
END:VEVENT
BEGIN:VEVENT
DTSTART;TZID=America/New_York:20220924T090000
DTEND;TZID=America/New_York:20220924T100000
DTSTAMP:20260424T125432
CREATED:20220830T040451Z
LAST-MODIFIED:20220830T042134Z
UID:29629-1664010000-1664013600@esterotoday.com
SUMMARY:Basics of Florida Friendly Landscaping 2022
DESCRIPTION:Join us for a free in person /online class to learn the 9 principles that guide Florida Friendly Landscaping (FFL) in Lee County.
URL:https://esterotoday.com/event/uf-ifas-extension-services/
LOCATION:UF/IFAS Extension Services
CATEGORIES:Arts
END:VEVENT
BEGIN:VEVENT
DTSTART;TZID=America/New_York:20220925T080000
DTEND;TZID=America/New_York:20220925T130000
DTSTAMP:20260424T125432
CREATED:20220830T035919Z
LAST-MODIFIED:20220830T042346Z
UID:29619-1664092800-1664110800@esterotoday.com
SUMMARY:Sunday Farmers Market
DESCRIPTION:Local produce\, honey\, fresh guacamole and salsas\, sea glass\, jewelry\, street food\, arts & crafts\, tie-dye and more!
URL:https://esterotoday.com/event/koreshan-state-park-4/
LOCATION:Koreshan State Park
CATEGORIES:Arts
END:VEVENT
BEGIN:VEVENT
DTSTART;VALUE=DATE:20221023
DTEND;VALUE=DATE:20221024
DTSTAMP:20260424T125432
CREATED:20220928T144022Z
LAST-MODIFIED:20220928T144144Z
UID:29979-1666483200-1666569599@esterotoday.com
SUMMARY:An Enemy of the People
DESCRIPTION:Performance of Henrik Ibsen’s tales of a doctor villainized publicly when he tries to alert his community to a public health crisis
URL:https://esterotoday.com/event/an-enemy-of-the-people-4/
LOCATION:FGCU’s Bower School of Music and the Arts
CATEGORIES:Arts
END:VEVENT
BEGIN:VEVENT
DTSTART;TZID=America/New_York:20221031T110000
DTEND;TZID=America/New_York:20221031T170000
DTSTAMP:20260424T125432
CREATED:20221028T185744Z
LAST-MODIFIED:20221028T185744Z
UID:30048-1667214000-1667235600@esterotoday.com
SUMMARY:Annual Golf Tournament at Old Corkscrew Golf Club
DESCRIPTION:Fundraising golf tournament with scramble format play and box lunch. 25% of profits will benefit Hurricane Ian relief.
URL:https://esterotoday.com/event/annual-golf-tournament-at-old-corkscrew-golf-club/
LOCATION:Old Corkscrew Golf Club\, 17320 Corkscrew Road\, Estero\, FL\, United States
CATEGORIES:Arts
END:VEVENT
BEGIN:VEVENT
DTSTART;TZID=America/New_York:20221103T180000
DTEND;TZID=America/New_York:20221103T200000
DTSTAMP:20260424T125432
CREATED:20221028T185950Z
LAST-MODIFIED:20221028T185950Z
UID:30054-1667498400-1667505600@esterotoday.com
SUMMARY:Fjestful Art Lecture: Holly Hanessian
DESCRIPTION:Hanessian’s artwork is positioned at the intersection of socially engaged art\, design\, craft\, and contemporary art. Many of the community-based art projects focus on at-risk populations who are often underrepresented and adversely affected by global warming events. This lecture is free and open to the public.
URL:https://esterotoday.com/event/fjestful-art-lecture-holly-hanessian/
LOCATION:FGCU
CATEGORIES:Arts
END:VEVENT
BEGIN:VEVENT
DTSTART;TZID=America/New_York:20221104T190000
DTEND;TZID=America/New_York:20221104T190000
DTSTAMP:20260424T125432
CREATED:20221028T185519Z
LAST-MODIFIED:20221028T185519Z
UID:30043-1667588400-1667588400@esterotoday.com
SUMMARY:Jaws vs Claws IV
DESCRIPTION:The Estero Council of Community Leaders (ECCL) is honored to participate and be a proud Diamond Sponsor for the upcoming Annual Jaws vs. Claws IV Bowl Game at Bonita Springs High School\, 25592 Imperial Pkwy\, Bonita Springs\, FL 34135.
URL:https://esterotoday.com/event/jaws-vs-claws-iv/
LOCATION:Bonita Springs High School\, 25592 Imperial Pkwy\, Bonita Springs\, 34135\, United States
CATEGORIES:Arts
ATTACH;FMTTYPE=image/jpeg:https://esterotoday.com/wp-content/uploads/2022/10/672f54c4-a96e-4ca9-9a49-d4a8fd7da2ac1.jpg
END:VEVENT
BEGIN:VEVENT
DTSTART;TZID=America/New_York:20221106T180000
DTEND;TZID=America/New_York:20221106T180000
DTSTAMP:20260424T125432
CREATED:20220816T133624Z
LAST-MODIFIED:20220816T133624Z
UID:29408-1667757600-1667757600@esterotoday.com
SUMMARY:Psalms\, Hymns and Spiritual Songs Concert and Art Exhibit
DESCRIPTION:Psalms\, Hymns and Spiritual Songs Concert and Art Exhibit\nStorytellers Creative Arts\, Inc.\nA plethora of timeless\, treasured musical genres\, art exhibit\, and a special tribute to Veterans with a 100-voice choir; 30-piece orchestra\, Jeffrey Faux\, Conductor\, vocalists Amy Bright\, Christi Cole; pianist Tamra Richardt; Storyteller Robert Petterson\, percussionist Chad Craig and other special guest artists – benefitting the community outreach programs of Storytellers Creative Arts.
URL:https://esterotoday.com/event/psalms-hymns-and-spiritual-songs-concert-and-art-exhibit/
LOCATION:First Presbyterian Church\, 9751 Bonita Beach Rd SE\, Bonita Springs\, FL\, 34135\, United States
CATEGORIES:Arts
END:VEVENT
BEGIN:VEVENT
DTSTART;TZID=America/New_York:20221113T163000
DTEND;TZID=America/New_York:20221113T163000
DTSTAMP:20260424T125432
CREATED:20221028T185856Z
LAST-MODIFIED:20221028T185856Z
UID:30051-1668357000-1668357000@esterotoday.com
SUMMARY:GO Divas Benefit Concert
DESCRIPTION:In partnership with Lamb of God in Estero this concert will benefit Feeding the 5000 which is the largest Thanksgiving outreach mission in SW Florida.
URL:https://esterotoday.com/event/go-divas-benefit-concert/
LOCATION:Lamb of God
CATEGORIES:Arts
END:VEVENT
BEGIN:VEVENT
DTSTART;TZID=America/New_York:20221114T140000
DTEND;TZID=America/New_York:20221114T160000
DTSTAMP:20260424T125432
CREATED:20221028T190447Z
LAST-MODIFIED:20221028T190447Z
UID:30067-1668434400-1668441600@esterotoday.com
SUMMARY:Jennifer Coburn Author Presentation & Book Signing
DESCRIPTION:Meet author Jennifer Coburn as she discusses her new historical novel Cradles of the Reich. Copies of the book will be available for purchase during the book signing immediately following the presentation.
URL:https://esterotoday.com/event/jennifer-coburn-author-presentation-book-signing/
LOCATION:South County Regional Library
CATEGORIES:Arts
END:VEVENT
BEGIN:VEVENT
DTSTART;TZID=America/New_York:20221115T120000
DTEND;TZID=America/New_York:20221115T120000
DTSTAMP:20260424T125432
CREATED:20221102T140626Z
LAST-MODIFIED:20221102T140626Z
UID:30085-1668513600-1668513600@esterotoday.com
SUMMARY:24th Annual Estero Historical Society Traditional Turkey Luncheon
DESCRIPTION:The Estero Historical Society is pleased to announce reservations are open for its 24th annual traditional turkey luncheon event\, held this year at the Country Creek Country Club located at 21180 Country Creek Drive\, (intersection of River Ranch and Corkscrew Roads). This year’s luncheon will feature a presentation by Susan Lindenmuth of Estero Fire Rescue on “Estero Fire Rescue Historical Timeline”. The event will be held on Nov. 15 at 12:00 pm. Tickets are $40 per person and can be reserved at esterohistoricalsociety.com/events/. \nThis event is open to all local residents and profits go to the Estero Historical Society Museum which is housed in two early 20th century buildings located at 9285 Corkscrew Palms Blvd. in Estero Park.
URL:https://esterotoday.com/event/24th-annual-estero-historical-society-traditional-turkey-luncheon/
LOCATION:Country Creek Country Club\, 21180 Country Creek Drive\, Estero\, FL\, 33928\, United States
CATEGORIES:Arts
END:VEVENT
BEGIN:VEVENT
DTSTART;TZID=America/New_York:20221115T180000
DTEND;TZID=America/New_York:20221115T190000
DTSTAMP:20260424T125432
CREATED:20221028T192246Z
LAST-MODIFIED:20221028T192302Z
UID:30069-1668535200-1668538800@esterotoday.com
SUMMARY:Teen(y) Tiny Art
DESCRIPTION:Create your own mini masterpiece for a Tiny Art Show at the library. Can’t make it? No problem! Stop by the Youth Services desk in early November for a free mini art kit while supplies last. For ages 12-17.
URL:https://esterotoday.com/event/teeny-tiny-art/
LOCATION:South County Regional Library
CATEGORIES:Arts
END:VEVENT
END:VCALENDAR