BEGIN:VCALENDAR
VERSION:2.0
PRODID:-//EsteroToday.com by Engage Estero - ECPv6.15.20//NONSGML v1.0//EN
CALSCALE:GREGORIAN
METHOD:PUBLISH
X-WR-CALNAME:EsteroToday.com by Engage Estero
X-ORIGINAL-URL:https://esterotoday.com
X-WR-CALDESC:Events for EsteroToday.com by Engage Estero
REFRESH-INTERVAL;VALUE=DURATION:PT1H
X-Robots-Tag:noindex
X-PUBLISHED-TTL:PT1H
BEGIN:VTIMEZONE
TZID:America/New_York
BEGIN:DAYLIGHT
TZOFFSETFROM:-0500
TZOFFSETTO:-0400
TZNAME:EDT
DTSTART:20240310T070000
END:DAYLIGHT
BEGIN:STANDARD
TZOFFSETFROM:-0400
TZOFFSETTO:-0500
TZNAME:EST
DTSTART:20241103T060000
END:STANDARD
BEGIN:DAYLIGHT
TZOFFSETFROM:-0500
TZOFFSETTO:-0400
TZNAME:EDT
DTSTART:20250309T070000
END:DAYLIGHT
BEGIN:STANDARD
TZOFFSETFROM:-0400
TZOFFSETTO:-0500
TZNAME:EST
DTSTART:20251102T060000
END:STANDARD
BEGIN:DAYLIGHT
TZOFFSETFROM:-0500
TZOFFSETTO:-0400
TZNAME:EDT
DTSTART:20260308T070000
END:DAYLIGHT
BEGIN:STANDARD
TZOFFSETFROM:-0400
TZOFFSETTO:-0500
TZNAME:EST
DTSTART:20261101T060000
END:STANDARD
END:VTIMEZONE
BEGIN:VEVENT
DTSTART;VALUE=DATE:20250908
DTEND;VALUE=DATE:20260101
DTSTAMP:20260422T182642
CREATED:20250903T104757Z
LAST-MODIFIED:20250903T104757Z
UID:43340-1757289600-1767225599@esterotoday.com
SUMMARY:Hunting\, Fishing\, and Camping Sales Tax Holiday
DESCRIPTION:Consumers can purchase qualifying hunting\, fishing\, and camping supplies exempt from tax during the 2025 Hunting\, Fishing\, and Camping Sales Tax Holiday. \n 
URL:https://esterotoday.com/event/hunting-fishing-and-camping-sales-tax-holiday/
END:VEVENT
BEGIN:VEVENT
DTSTART;TZID=America/New_York:20251205T100000
DTEND;TZID=America/New_York:20251205T170000
DTSTAMP:20260422T182642
CREATED:20251202T063145Z
LAST-MODIFIED:20251202T063145Z
UID:44227-1764928800-1764954000@esterotoday.com
SUMMARY:24th Annual Pottery Sale
DESCRIPTION:Beautiful\, functional clay works from FGCU’s talented Ceramics Studio alumni are featured at this annual event\, along with contributions from current faculty\, students and community participants. \n 
URL:https://esterotoday.com/event/24th-annual-pottery-sale/
LOCATION:Arts Complex (facing the Library)\, FGCU Campus
END:VEVENT
BEGIN:VEVENT
DTSTART;TZID=America/New_York:20251205T113000
DTEND;TZID=America/New_York:20251205T170000
DTSTAMP:20260422T182642
CREATED:20251202T063347Z
LAST-MODIFIED:20251202T063347Z
UID:44230-1764934200-1764954000@esterotoday.com
SUMMARY:19th Annual Empty Bowls Fundraiser
DESCRIPTION:The FGCU Empty Bowls Fundraiser is committed to helping neighbors in need who are experiencing food insecurity through support for the food pantry at Interfaith Charities of South Lee. As always\, there will be handmade bowls and delicious soups\, dedicated student volunteers\, and the friends\, colleagues and community participants that make this support possible. \n 
URL:https://esterotoday.com/event/19th-annual-empty-bowls-fundraiser/
LOCATION:Arts Complex (facing the Library)\, FGCU Campus
END:VEVENT
BEGIN:VEVENT
DTSTART;TZID=America/New_York:20251205T150000
DTEND;TZID=America/New_York:20251205T163000
DTSTAMP:20260422T182642
CREATED:20251202T063725Z
LAST-MODIFIED:20251202T063725Z
UID:44234-1764946800-1764952200@esterotoday.com
SUMMARY:The Big One is Still Coming
DESCRIPTION:Dr. Michael Osterholm from the University of Minnesota discusses pandemic preparedness. \n 
URL:https://esterotoday.com/event/the-big-one-is-still-coming/
LOCATION:Florida Blue\, 8041 Plaza del Lago Drive
END:VEVENT
END:VCALENDAR