BEGIN:VCALENDAR
VERSION:2.0
PRODID:-//EsteroToday.com by Engage Estero - ECPv6.15.20//NONSGML v1.0//EN
CALSCALE:GREGORIAN
METHOD:PUBLISH
X-ORIGINAL-URL:https://esterotoday.com
X-WR-CALDESC:Events for EsteroToday.com by Engage Estero
REFRESH-INTERVAL;VALUE=DURATION:PT1H
X-Robots-Tag:noindex
X-PUBLISHED-TTL:PT1H
BEGIN:VTIMEZONE
TZID:America/New_York
BEGIN:DAYLIGHT
TZOFFSETFROM:-0500
TZOFFSETTO:-0400
TZNAME:EDT
DTSTART:20230312T070000
END:DAYLIGHT
BEGIN:STANDARD
TZOFFSETFROM:-0400
TZOFFSETTO:-0500
TZNAME:EST
DTSTART:20231105T060000
END:STANDARD
BEGIN:DAYLIGHT
TZOFFSETFROM:-0500
TZOFFSETTO:-0400
TZNAME:EDT
DTSTART:20240310T070000
END:DAYLIGHT
BEGIN:STANDARD
TZOFFSETFROM:-0400
TZOFFSETTO:-0500
TZNAME:EST
DTSTART:20241103T060000
END:STANDARD
BEGIN:DAYLIGHT
TZOFFSETFROM:-0500
TZOFFSETTO:-0400
TZNAME:EDT
DTSTART:20250309T070000
END:DAYLIGHT
BEGIN:STANDARD
TZOFFSETFROM:-0400
TZOFFSETTO:-0500
TZNAME:EST
DTSTART:20251102T060000
END:STANDARD
END:VTIMEZONE
BEGIN:VEVENT
DTSTART;TZID=America/New_York:20240624T120000
DTEND;TZID=America/New_York:20240628T123000
DTSTAMP:20260424T060208
CREATED:20240525T042710Z
LAST-MODIFIED:20240525T042918Z
UID:38682-1719230400-1719577800@esterotoday.com
SUMMARY:World Wellbeing Week
DESCRIPTION:Lee Health is hosting two days of Symposium covering a broad spectrum of ways to increase your personal well-being. To RSVP call 239-468-0050.
URL:https://esterotoday.com/event/world-wellbeing-week/
LOCATION:Lee Health Coconut Point Category: Health
CATEGORIES:Health
END:VEVENT
BEGIN:VEVENT
DTSTART;TZID=America/New_York:20240624T170000
DTEND;TZID=America/New_York:20240624T190000
DTSTAMP:20260424T060208
CREATED:20240607T125423Z
LAST-MODIFIED:20240607T125439Z
UID:38871-1719248400-1719255600@esterotoday.com
SUMMARY:Safe Streets 4 All
DESCRIPTION:The first public meeting of the Lee County Metropolitan Planning Organization’s (MPO) Safe Streets for All (SS4A) Safety Action Plan will be held on Monday\, June 24\, 2024\, from 5:00 p.m. until 7:00 p.m. at Collaboratory\, 2031 Jackson Street\, Fort Myers\, FL. \nThe purpose of the meeting is to gather safety issue feedback and present initial crash findings. MPO staff and consultants will be available at the meeting to answer questions and provide a brief presentation.
URL:https://esterotoday.com/event/safe-streets-4-all/
LOCATION:Collaboratory\, 2031 Jackson Street\, Fort Myers\, FL\, 33901\, United States
CATEGORIES:Other Event
END:VEVENT
END:VCALENDAR