BEGIN:VCALENDAR
VERSION:2.0
PRODID:-//EsteroToday.com by Engage Estero - ECPv6.15.20//NONSGML v1.0//EN
CALSCALE:GREGORIAN
METHOD:PUBLISH
X-ORIGINAL-URL:https://esterotoday.com
X-WR-CALDESC:Events for EsteroToday.com by Engage Estero
REFRESH-INTERVAL;VALUE=DURATION:PT1H
X-Robots-Tag:noindex
X-PUBLISHED-TTL:PT1H
BEGIN:VTIMEZONE
TZID:America/New_York
BEGIN:DAYLIGHT
TZOFFSETFROM:-0500
TZOFFSETTO:-0400
TZNAME:EDT
DTSTART:20230312T070000
END:DAYLIGHT
BEGIN:STANDARD
TZOFFSETFROM:-0400
TZOFFSETTO:-0500
TZNAME:EST
DTSTART:20231105T060000
END:STANDARD
BEGIN:DAYLIGHT
TZOFFSETFROM:-0500
TZOFFSETTO:-0400
TZNAME:EDT
DTSTART:20240310T070000
END:DAYLIGHT
BEGIN:STANDARD
TZOFFSETFROM:-0400
TZOFFSETTO:-0500
TZNAME:EST
DTSTART:20241103T060000
END:STANDARD
BEGIN:DAYLIGHT
TZOFFSETFROM:-0500
TZOFFSETTO:-0400
TZNAME:EDT
DTSTART:20250309T070000
END:DAYLIGHT
BEGIN:STANDARD
TZOFFSETFROM:-0400
TZOFFSETTO:-0500
TZNAME:EST
DTSTART:20251102T060000
END:STANDARD
END:VTIMEZONE
BEGIN:VEVENT
DTSTART;TZID=America/New_York:20240611T120000
DTEND;TZID=America/New_York:20240611T130000
DTSTAMP:20260424T060208
CREATED:20240525T042837Z
LAST-MODIFIED:20240525T042837Z
UID:38685-1718107200-1718110800@esterotoday.com
SUMMARY:Lunch & Learn: Men's Health
DESCRIPTION:Join Kyle Waisanen\, MD\, Lee Health urologist\, as he discusses some of the most common ailments men are experiencing today.
URL:https://esterotoday.com/event/lunch-learn-mens-health/
LOCATION:Lee Health Coconut Point
CATEGORIES:Health
END:VEVENT
BEGIN:VEVENT
DTSTART;TZID=America/New_York:20240611T163000
DTEND;TZID=America/New_York:20240611T163000
DTSTAMP:20260424T060208
CREATED:20240119T071001Z
LAST-MODIFIED:20240211T055157Z
UID:37108-1718123400-1718123400@esterotoday.com
SUMMARY:Planning Zoning Design Board Meeting
DESCRIPTION:Agendas are posted the week prior to the meeting. Council meetings are open to the public. \nThe Village Planning\, Zoning and Design Board will discuss several important matters at its next meeting. \nThese meetings are an opportunity for residents to learn more about growth\, development\, and zoning changes within Estero and to voice questions\, concerns\, and comments on these topics.
URL:https://esterotoday.com/event/planning-zoning-design-board-meeting-6/
LOCATION:Village of Estero\, 9401 Corkscrew Palms Circle\, Estero\, FL\, 33928\, United States
CATEGORIES:Village of Estero Event
END:VEVENT
END:VCALENDAR