BEGIN:VCALENDAR
VERSION:2.0
PRODID:-//EsteroToday.com by Engage Estero - ECPv6.15.20//NONSGML v1.0//EN
CALSCALE:GREGORIAN
METHOD:PUBLISH
X-ORIGINAL-URL:https://esterotoday.com
X-WR-CALDESC:Events for EsteroToday.com by Engage Estero
REFRESH-INTERVAL;VALUE=DURATION:PT1H
X-Robots-Tag:noindex
X-PUBLISHED-TTL:PT1H
BEGIN:VTIMEZONE
TZID:America/New_York
BEGIN:DAYLIGHT
TZOFFSETFROM:-0500
TZOFFSETTO:-0400
TZNAME:EDT
DTSTART:20230312T070000
END:DAYLIGHT
BEGIN:STANDARD
TZOFFSETFROM:-0400
TZOFFSETTO:-0500
TZNAME:EST
DTSTART:20231105T060000
END:STANDARD
BEGIN:DAYLIGHT
TZOFFSETFROM:-0500
TZOFFSETTO:-0400
TZNAME:EDT
DTSTART:20240310T070000
END:DAYLIGHT
BEGIN:STANDARD
TZOFFSETFROM:-0400
TZOFFSETTO:-0500
TZNAME:EST
DTSTART:20241103T060000
END:STANDARD
BEGIN:DAYLIGHT
TZOFFSETFROM:-0500
TZOFFSETTO:-0400
TZNAME:EDT
DTSTART:20250309T070000
END:DAYLIGHT
BEGIN:STANDARD
TZOFFSETFROM:-0400
TZOFFSETTO:-0500
TZNAME:EST
DTSTART:20251102T060000
END:STANDARD
END:VTIMEZONE
BEGIN:VEVENT
DTSTART;TZID=America/New_York:20240507T093000
DTEND;TZID=America/New_York:20240507T103000
DTSTAMP:20260424T071152
CREATED:20231221T015150Z
LAST-MODIFIED:20231221T015150Z
UID:35913-1715074200-1715077800@esterotoday.com
SUMMARY:Board of Lee County Commissioners Meeting
DESCRIPTION:​​​Agendas are posted approximately one week prior to the meeting.​  You can stream the meeting video on LeeTV\, Youtube\, or Facebook Live during the meeting and rewatch the recording on Youtube.
URL:https://esterotoday.com/event/board-of-lee-county-commissioners-meeting-13/
LOCATION:Old Lee County Courthouse Commission Chambers 2120 Main Street Fort Myers\, FL 33901
CATEGORIES:Lee County Events
END:VEVENT
BEGIN:VEVENT
DTSTART;TZID=America/New_York:20240507T113000
DTEND;TZID=America/New_York:20240507T130000
DTSTAMP:20260424T071152
CREATED:20240410T093849Z
LAST-MODIFIED:20240410T093849Z
UID:38163-1715081400-1715086800@esterotoday.com
SUMMARY:Breaking the Stigma Surrounding Mental Health Issues
DESCRIPTION:Presented by Park Royal Behavioral Health Services. REGISTRATION IS REQUIRED FOR ALL “LUNCH & LEARN” EVENTS. PLEASE EMAIL YOUR REGISTRATION REQUEST TO GARY LEVINE AT glevine@sheriffleefl.org.
URL:https://esterotoday.com/event/breaking-the-stigma-surrounding-mental-health-issues/
LOCATION:Lee County Sheriff’s Office Miromar Outlets Community Outreach Center\, Suite 190 at the Miromar outlets
CATEGORIES:Sheriff’s Office
END:VEVENT
END:VCALENDAR