BEGIN:VCALENDAR
VERSION:2.0
PRODID:-//EsteroToday.com by Engage Estero - ECPv6.15.20//NONSGML v1.0//EN
CALSCALE:GREGORIAN
METHOD:PUBLISH
X-ORIGINAL-URL:https://esterotoday.com
X-WR-CALDESC:Events for EsteroToday.com by Engage Estero
REFRESH-INTERVAL;VALUE=DURATION:PT1H
X-Robots-Tag:noindex
X-PUBLISHED-TTL:PT1H
BEGIN:VTIMEZONE
TZID:America/New_York
BEGIN:DAYLIGHT
TZOFFSETFROM:-0500
TZOFFSETTO:-0400
TZNAME:EDT
DTSTART:20230312T070000
END:DAYLIGHT
BEGIN:STANDARD
TZOFFSETFROM:-0400
TZOFFSETTO:-0500
TZNAME:EST
DTSTART:20231105T060000
END:STANDARD
BEGIN:DAYLIGHT
TZOFFSETFROM:-0500
TZOFFSETTO:-0400
TZNAME:EDT
DTSTART:20240310T070000
END:DAYLIGHT
BEGIN:STANDARD
TZOFFSETFROM:-0400
TZOFFSETTO:-0500
TZNAME:EST
DTSTART:20241103T060000
END:STANDARD
BEGIN:DAYLIGHT
TZOFFSETFROM:-0500
TZOFFSETTO:-0400
TZNAME:EDT
DTSTART:20250309T070000
END:DAYLIGHT
BEGIN:STANDARD
TZOFFSETFROM:-0400
TZOFFSETTO:-0500
TZNAME:EST
DTSTART:20251102T060000
END:STANDARD
END:VTIMEZONE
BEGIN:VEVENT
DTSTART;TZID=America/New_York:20240501T093000
DTEND;TZID=America/New_York:20240501T093000
DTSTAMP:20260424T071153
CREATED:20240119T065633Z
LAST-MODIFIED:20240430T184651Z
UID:37074-1714555800-1714555800@esterotoday.com
SUMMARY:Village Council Meeting
DESCRIPTION:Among the items to be discussed \n\nA resolution allowing the Village Manager to submit a Community Development Block Grant Disaster Recovery Grant Fund application for the utility extension projects for Charing Cross\, Estero Bay Village\, Sandy Lane\, See See Street\, Estero River Heights\, Sherrill Lane\, Luettich Lane\, and Broadway Avenue.\nA resolution allowing Village Manager Steven Sarkozy to submit proposed projects to the Lee County Hurricane Ian Recovery and Resiliency program\, which would also allow him to accept and authorize these grants for use on Village projects.\nA resolution supporting the Bonita-Estero Rail Trail (BERT) project\, which would authorize Sarkozy to approve a $5 million appropriation from the Estero Capital Improvement Program for the purchase of a section of the Seminole Rail Line. This move also allows the Village Manager to submit funding requests to various county\, state\, and local government agencies\, with the $5 million serving as the “match” to any grants requiring one.\nA second reading of an ordinance that would amend the Commercial Planned Development Zoning for the Bella Terra community to allow for a wireless communication facility and cell tower on land located at the front of the community. This item was deferred from the April 17 meeting.
URL:https://esterotoday.com/event/village-council-meeting-12/
LOCATION:Village of Estero\, 9401 Corkscrew Palms Circle\, Estero\, FL\, 33928\, United States
CATEGORIES:Village of Estero Event
END:VEVENT
END:VCALENDAR