BEGIN:VCALENDAR
VERSION:2.0
PRODID:-//EsteroToday.com by Engage Estero - ECPv6.15.20//NONSGML v1.0//EN
CALSCALE:GREGORIAN
METHOD:PUBLISH
X-ORIGINAL-URL:https://esterotoday.com
X-WR-CALDESC:Events for EsteroToday.com by Engage Estero
REFRESH-INTERVAL;VALUE=DURATION:PT1H
X-Robots-Tag:noindex
X-PUBLISHED-TTL:PT1H
BEGIN:VTIMEZONE
TZID:America/New_York
BEGIN:DAYLIGHT
TZOFFSETFROM:-0500
TZOFFSETTO:-0400
TZNAME:EDT
DTSTART:20230312T070000
END:DAYLIGHT
BEGIN:STANDARD
TZOFFSETFROM:-0400
TZOFFSETTO:-0500
TZNAME:EST
DTSTART:20231105T060000
END:STANDARD
BEGIN:DAYLIGHT
TZOFFSETFROM:-0500
TZOFFSETTO:-0400
TZNAME:EDT
DTSTART:20240310T070000
END:DAYLIGHT
BEGIN:STANDARD
TZOFFSETFROM:-0400
TZOFFSETTO:-0500
TZNAME:EST
DTSTART:20241103T060000
END:STANDARD
BEGIN:DAYLIGHT
TZOFFSETFROM:-0500
TZOFFSETTO:-0400
TZNAME:EDT
DTSTART:20250309T070000
END:DAYLIGHT
BEGIN:STANDARD
TZOFFSETFROM:-0400
TZOFFSETTO:-0500
TZNAME:EST
DTSTART:20251102T060000
END:STANDARD
END:VTIMEZONE
BEGIN:VEVENT
DTSTART;TZID=America/New_York:20240413T080000
DTEND;TZID=America/New_York:20240414T210000
DTSTAMP:20260424T081538
CREATED:20240221T182614Z
LAST-MODIFIED:20240416T125423Z
UID:37536-1712995200-1713128400@esterotoday.com
SUMMARY:Breaking Par at Grandezza
DESCRIPTION:MatthewLEAD Estero Co-Founder and Treasurer Matthew Stevens welcomed golfers\, thanking them and the sponsors for their support before they started their round on the Grandezza links.  \n					\n					\n					\n				\n				Happy Golfer 1DX14830Happy Golfer gives a fist pump after making a putt. \n					\n					\n					\n				\n				saxophone playerGreat rendition of Star Spangled Banner by Student Saxophone player before golfers tee’d off was repeated at the Gala on Sunday Evening.  \n					\n					\n					\n				\n				Hole in one Contest for Range Rover 1DX14770Golfer attempts a Hole in One for dibs on the Land Rover.  \n					\n					\n					\n				\n				Wasson Golf Team Flamingo 1DX14790Flamingoes appear on each golfers apparel earning them an extra mulligan.  Left to Right:  Rob Bruce\, Peter Wright\, Brawley Adams and Mike Wasson. \n					\n					\n					\n				\n				jeffreyAttendees visit with students LEAD Estero Co-Founder Jeffrey Stevens who portrayed Ronald Regan during Gala on Sunday Evening at Grandezza.  \n					\n					\n					\n				\n				geraciGuests Kathy Geraci and her husband Mike Wasson were ushered into the The Club at Grandezza on a Red Carpet and met by Elvis Presley portrayed by Trey Ramsey. \n					\n					\n					\n				\n				IMG_0296Students Jeffrey Stevens dressed as Ronald Regan and Akshar Patel dressed as Secret Service agent had opening comments at Gala. \n					\n					\n					\n				\n				1DX14957LEAD Estero Students who dressed as Hollywood stars. From Left to Right: Trey Ramsey\, Akshar Patel\, Jeffrey Stevens\, Gianna Del Negro\, Brett Kueck\, Katelyn Kueck\, Kyra Ritter\, Matthew Stevens and Tryton Fay.\n\nThe Hollywood stars they portrayed were from Left: Elvis Presley\, Secret Service protection for Ronald Regan\, a director\, Maverick “Tom Cruise” from Top Gun\, Grace Kelly\, Marilyn Monroe\, John Wayne and James Dean.  \n					\n					\n					\n				\n				Bidding at Gala IMG_0301 (1)Bidders rush to get auctioneers attention at Breaking Par at Grandezza. \n			\n				\n				\n				\n				\n				\n				\n				\n				\n				\n				The 12th Annual Breaking Par at Grandezza charity event was held April 13th and 14th\, 2024.  It started with a Shotgun Scramble Golf Tournament at 8:30 am on Saturday April 13th.  The Gala Dinner with a Hollywood theme was held Sunday April 14th.  \nEngage Estero was proud to be host and presenting sponsor of Breaking Par at Grandezza\, a fundraiser for LEAD Estero\, a 501(c)3 non-profit organization created by Estero High School students for Estero High School Students. \nFor more information\, contact donate@LEADestero.com\, call 239-707-5418 or visit the website www.Leadestero.com. \n			\n				\n				\n				\n				\n				\n			\n				\n				\n				\n				\n				Featured guest of honor was Estero’s first Mayor Nick Batos.  Nick has made many significant contributions to this community; among them are: having served as Chairman of the ECCL and leading the successful drive to get the incorporation of Estero on the November 2014 ballot.  He went on to serve two terms as District 6 Councilmember acting as liaison to the Lee School District and Lee Health\, with areas of strategic concern being the SUN Trails\, CSX railroad\, and Bike/Pedestrian Pathways.  Nick and his wife\, Linda\, reside in Shadow Wood at The Brooks.
URL:https://esterotoday.com/event/breakingpar2024/
LOCATION:Grandezza\, 11481 Grande Oak Blvd\, Estero\, FL\, 33928\, United States
CATEGORIES:Engage Estero Event
ATTACH;FMTTYPE=image/png:https://esterotoday.com/wp-content/uploads/2024/02/flyer-mini-th.png
ORGANIZER;CN="Lead Estero":MAILTO:Donate@LEADestero.com
END:VEVENT
BEGIN:VEVENT
DTSTART;TZID=America/New_York:20240413T083000
DTEND;TZID=America/New_York:20240413T170000
DTSTAMP:20260424T081538
CREATED:20240403T071130Z
LAST-MODIFIED:20240403T071130Z
UID:38088-1712997000-1713027600@esterotoday.com
SUMMARY:Breaking Par at Grandezza
DESCRIPTION:The 12th Annual Breaking Par at Grandezza charity event will be held April 13th and 14th. It starts with a Shotgun Scramble Golf Tournament at 8:30 am on Saturday April 13th. The Gala Dinner is Sunday April 14th beginning at 5:30 pm. \nDress to impress for our Classic Hollywood Theme at the Gala on Sunday evening. The coveted Gala features delicious cuisine and incredible live and silent auction items. Featured guest of honor will be Estero’s first Mayor Nick Batos. \nThis is a fun event and all proceeds go to furthering Education right here in Estero. \nEngage Estero is hosting and the presenting sponsor of Breaking Par at Grandezza\, a fundraiser for LEAD Estero\, a 501(c)3 non-profit organization created by Estero High School students for Estero High School Students. \nFor more information\, contact donate@LEADestero.com \, call 239-707-5418 or visit the website www.Leadestero.com. \n 
URL:https://esterotoday.com/event/breaking-par-at-grandezza-2/
LOCATION:The Club at Grandezza\, Estero\, FL\, 33928
ORGANIZER;CN="Lead Estero":MAILTO:Donate@LEADestero.com
END:VEVENT
END:VCALENDAR