BEGIN:VCALENDAR
VERSION:2.0
PRODID:-//EsteroToday.com by Engage Estero - ECPv6.15.20//NONSGML v1.0//EN
CALSCALE:GREGORIAN
METHOD:PUBLISH
X-WR-CALNAME:EsteroToday.com by Engage Estero
X-ORIGINAL-URL:https://esterotoday.com
X-WR-CALDESC:Events for EsteroToday.com by Engage Estero
REFRESH-INTERVAL;VALUE=DURATION:PT1H
X-Robots-Tag:noindex
X-PUBLISHED-TTL:PT1H
BEGIN:VTIMEZONE
TZID:America/New_York
BEGIN:DAYLIGHT
TZOFFSETFROM:-0500
TZOFFSETTO:-0400
TZNAME:EDT
DTSTART:20230312T070000
END:DAYLIGHT
BEGIN:STANDARD
TZOFFSETFROM:-0400
TZOFFSETTO:-0500
TZNAME:EST
DTSTART:20231105T060000
END:STANDARD
BEGIN:DAYLIGHT
TZOFFSETFROM:-0500
TZOFFSETTO:-0400
TZNAME:EDT
DTSTART:20240310T070000
END:DAYLIGHT
BEGIN:STANDARD
TZOFFSETFROM:-0400
TZOFFSETTO:-0500
TZNAME:EST
DTSTART:20241103T060000
END:STANDARD
BEGIN:DAYLIGHT
TZOFFSETFROM:-0500
TZOFFSETTO:-0400
TZNAME:EDT
DTSTART:20250309T070000
END:DAYLIGHT
BEGIN:STANDARD
TZOFFSETFROM:-0400
TZOFFSETTO:-0500
TZNAME:EST
DTSTART:20251102T060000
END:STANDARD
END:VTIMEZONE
BEGIN:VEVENT
DTSTART;TZID=America/New_York:20240221T093000
DTEND;TZID=America/New_York:20240221T093000
DTSTAMP:20260424T110203
CREATED:20240119T065359Z
LAST-MODIFIED:20240219T163226Z
UID:37064-1708507800-1708507800@esterotoday.com
SUMMARY:Village Council Meeting
DESCRIPTION:Among the items to be discussed \n\nAn agreement with River Creek community builder GL Homes to build a sidewalk in that area of Corkscrew Road. The Village would pay GL Homes $104\,994 to complete the project as part of building up the River Creek area.\nAn ordinance to bring the Village’s written code enforcement policy into line with existing policies being implemented.\nA workshop on the Bonita-Estero Rail Trail (BERT) project. The Trust for Public Lands\, a nonprofit organization that works to support community park and green space projects\, has secured a $82 million purchase-and-sale agreement for a 14.9-mile segment of the Seminole Rail line (from Alico Road to the end of the line located in Collier County). While still an early step in the process of developing the BERT\, the summary sheet for the workshop calls this an “exciting opportunity” to potentially move the project forward.\n\nThe full agenda and supporting documents can be viewed here by clicking on “Village Council Meeting.”
URL:https://esterotoday.com/event/village-council-meeting-7/
LOCATION:Village of Estero\, 9401 Corkscrew Palms Circle\, Estero\, FL\, 33928\, United States
CATEGORIES:Village of Estero Event
END:VEVENT
BEGIN:VEVENT
DTSTART;TZID=America/New_York:20240221T093000
DTEND;TZID=America/New_York:20240221T103000
DTSTAMP:20260424T110203
CREATED:20231221T014109Z
LAST-MODIFIED:20231221T014109Z
UID:35898-1708507800-1708511400@esterotoday.com
SUMMARY:Board of Lee County Commissioners Zoning / Comp Plan Hearings
DESCRIPTION:​View the Agenda.​  Agendas are posted approximately one week prior to the hearing date.​​
URL:https://esterotoday.com/event/board-of-lee-county-commissioners-zoning-comp-plan-hearings-9/
LOCATION:Old Lee County Courthouse Commission Chambers 2120 Main Street Fort Myers\, FL 33901
CATEGORIES:Lee County Events
END:VEVENT
END:VCALENDAR